BEGIN:VCALENDAR
VERSION:2.0
PRODID:-//LuccaNews.Org - ECPv6.15.20//NONSGML v1.0//EN
CALSCALE:GREGORIAN
METHOD:PUBLISH
X-ORIGINAL-URL:https://luccanews.org
X-WR-CALDESC:Events for LuccaNews.Org
REFRESH-INTERVAL;VALUE=DURATION:PT1H
X-Robots-Tag:noindex
X-PUBLISHED-TTL:PT1H
BEGIN:VTIMEZONE
TZID:Europe/Rome
BEGIN:DAYLIGHT
TZOFFSETFROM:+0100
TZOFFSETTO:+0200
TZNAME:CEST
DTSTART:20220327T010000
END:DAYLIGHT
BEGIN:STANDARD
TZOFFSETFROM:+0200
TZOFFSETTO:+0100
TZNAME:CET
DTSTART:20221030T010000
END:STANDARD
BEGIN:DAYLIGHT
TZOFFSETFROM:+0100
TZOFFSETTO:+0200
TZNAME:CEST
DTSTART:20230326T010000
END:DAYLIGHT
BEGIN:STANDARD
TZOFFSETFROM:+0200
TZOFFSETTO:+0100
TZNAME:CET
DTSTART:20231029T010000
END:STANDARD
BEGIN:DAYLIGHT
TZOFFSETFROM:+0100
TZOFFSETTO:+0200
TZNAME:CEST
DTSTART:20240331T010000
END:DAYLIGHT
BEGIN:STANDARD
TZOFFSETFROM:+0200
TZOFFSETTO:+0100
TZNAME:CET
DTSTART:20241027T010000
END:STANDARD
END:VTIMEZONE
BEGIN:VEVENT
DTSTART;TZID=Europe/Rome:20230601T090000
DTEND;TZID=Europe/Rome:20230601T190000
DTSTAMP:20260419T181143
CREATED:20230528T091057Z
LAST-MODIFIED:20230614T172651Z
UID:13690-1685610000-1685646000@luccanews.org
SUMMARY:Ongoing June Exhibits\, In & Around Lucca
DESCRIPTION:Drink\, Speak\, Share\, every Wednesday from 9pm-11pm Biblioteca Popolare\, San Concordio\, Via Urbician Come on down and meet some lovely locals. A language exchange group from Italy that started 5 … Continue reading Drink\, Speak\, Share Language Exchange
URL:https://luccanews.org/event/ongoing-june-exhibits-in-around-lucca/
CATEGORIES:Exhibits,Kids and families
ATTACH;FMTTYPE=image/png:https://luccanews.org/wp-content/uploads/2023/03/Screen-Shot-2023-03-31-at-1.18.19-PM.png
END:VEVENT
BEGIN:VEVENT
DTSTART;TZID=Europe/Rome:20230501T093000
DTEND;TZID=Europe/Rome:20230501T170000
DTSTAMP:20260419T181143
CREATED:20230507T164104Z
LAST-MODIFIED:20230621T144801Z
UID:13403-1682933400-1682960400@luccanews.org
SUMMARY:The World of Pinocchio: 140 years of the puppet's adventures
DESCRIPTION:Drink\, Speak\, Share\, every Wednesday from 9pm-11pm Biblioteca Popolare\, San Concordio\, Via Urbician Come on down and meet some lovely locals. A language exchange group from Italy that started 5 … Continue reading Drink\, Speak\, Share Language Exchange
URL:https://luccanews.org/event/the-world-of-pinocchio-140-years-of-the-puppets-adventures/
LOCATION:Antica Zecca di Lucca\, Casermetta San Donato | Mura Urbane\, Lucca\, LU\, 55100\, Italy
CATEGORIES:Exhibits,Kids and families,Movies in English
ATTACH;FMTTYPE=image/jpeg:https://luccanews.org/wp-content/uploads/2023/05/286982309_435110951955573_819018847911660882_n.jpg
END:VEVENT
BEGIN:VEVENT
DTSTART;TZID=Europe/Rome:20230616T100000
DTEND;TZID=Europe/Rome:20230616T190000
DTSTAMP:20260419T181143
CREATED:20230609T073706Z
LAST-MODIFIED:20230609T073706Z
UID:13789-1686909600-1686942000@luccanews.org
SUMMARY:Lavender-scented events along La Via delle Erbe e dei Fiori\, Massarosa
DESCRIPTION:Drink\, Speak\, Share\, every Wednesday from 9pm-11pm Biblioteca Popolare\, San Concordio\, Via Urbician Come on down and meet some lovely locals. A language exchange group from Italy that started 5 … Continue reading Drink\, Speak\, Share Language Exchange
URL:https://luccanews.org/event/lavender-scented-events-along-la-via-delle-erbe-e-dei-fiori-massarosa/
LOCATION:Massarosa\, LU\, Italy
CATEGORIES:Gardening,Music-Contemporary
ATTACH;FMTTYPE=image/jpeg:https://luccanews.org/wp-content/uploads/2023/06/347238472_968744374474356_1613965778864353615_n.jpg
END:VEVENT
BEGIN:VEVENT
DTSTART;TZID=Europe/Rome:20230508T100000
DTEND;TZID=Europe/Rome:20230508T200000
DTSTAMP:20260419T181143
CREATED:20230508T104540Z
LAST-MODIFIED:20230614T173053Z
UID:13420-1683540000-1683576000@luccanews.org
SUMMARY:The Uffizi Diffusi Project: Raffaello La Madonna del Baldacchino
DESCRIPTION:Drink\, Speak\, Share\, every Wednesday from 9pm-11pm Biblioteca Popolare\, San Concordio\, Via Urbician Come on down and meet some lovely locals. A language exchange group from Italy that started 5 … Continue reading Drink\, Speak\, Share Language Exchange
URL:https://luccanews.org/event/the-uffizi-diffusi-project-raffaello-la-madonna-del-baldacchino/
LOCATION:Cattedrale e Cappella Turini\, Piazza del Duomo 16\, Pescia\, PT\, Italy
CATEGORIES:Exhibits
ATTACH;FMTTYPE=image/png:https://luccanews.org/wp-content/uploads/2023/05/Screen-Shot-2023-05-08-at-12.43.13-PM.png
END:VEVENT
BEGIN:VEVENT
DTSTART;TZID=Europe/Rome:20230513T110000
DTEND;TZID=Europe/Rome:20230513T180000
DTSTAMP:20260419T181143
CREATED:20230511T112423Z
LAST-MODIFIED:20230605T131949Z
UID:13471-1683975600-1684000800@luccanews.org
SUMMARY:An Always Open Theater
DESCRIPTION:Drink\, Speak\, Share\, every Wednesday from 9pm-11pm Biblioteca Popolare\, San Concordio\, Via Urbician Come on down and meet some lovely locals. A language exchange group from Italy that started 5 … Continue reading Drink\, Speak\, Share Language Exchange
URL:https://luccanews.org/event/an-always-open-theater/
LOCATION:Teatro del Giglio\, piazza del Giglio\, Lucca\, LU\, 55100\, Italy
CATEGORIES:Exhibits,Music-Opera & Classical
ATTACH;FMTTYPE=image/jpeg:https://luccanews.org/wp-content/uploads/2023/05/bd034a56540e34d03311a67cbd21bc24fd1b666301a84842be522534048ff01a.jpg
END:VEVENT
BEGIN:VEVENT
DTSTART;TZID=Europe/Rome:20230615T170000
DTEND;TZID=Europe/Rome:20230615T210000
DTSTAMP:20260419T181143
CREATED:20230614T084139Z
LAST-MODIFIED:20230614T084139Z
UID:13841-1686848400-1686862800@luccanews.org
SUMMARY:Summer Film Festival
DESCRIPTION:Drink\, Speak\, Share\, every Wednesday from 9pm-11pm Biblioteca Popolare\, San Concordio\, Via Urbician Come on down and meet some lovely locals. A language exchange group from Italy that started 5 … Continue reading Drink\, Speak\, Share Language Exchange
URL:https://luccanews.org/event/summer-film-festival/
LOCATION:Villa Bottini\, via Elisa 9\, Lucca\, LU\, 55100\, Italy
CATEGORIES:Movies,Movies in English
ATTACH;FMTTYPE=image/png:https://luccanews.org/wp-content/uploads/2023/06/Screen-Shot-2023-06-12-at-2.57.54-PM.png
END:VEVENT
BEGIN:VEVENT
DTSTART;TZID=Europe/Rome:20230630T190000
DTEND;TZID=Europe/Rome:20230630T210000
DTSTAMP:20260419T181143
CREATED:20230622T154622Z
LAST-MODIFIED:20230622T154622Z
UID:14110-1688151600-1688158800@luccanews.org
SUMMARY:Opera Lucca
DESCRIPTION:Drink\, Speak\, Share\, every Wednesday from 9pm-11pm Biblioteca Popolare\, San Concordio\, Via Urbician Come on down and meet some lovely locals. A language exchange group from Italy that started 5 … Continue reading Drink\, Speak\, Share Language Exchange
URL:https://luccanews.org/event/opera-lucca/
CATEGORIES:Music-Opera & Classical
ATTACH;FMTTYPE=image/jpeg:https://luccanews.org/wp-content/uploads/2023/06/355165720_945095169895751_1838476495202369822_n.jpg
END:VEVENT
BEGIN:VEVENT
DTSTART;TZID=Europe/Rome:20230630T193000
DTEND;TZID=Europe/Rome:20230630T213000
DTSTAMP:20260419T181143
CREATED:20230624T100011Z
LAST-MODIFIED:20230624T100539Z
UID:14152-1688153400-1688160600@luccanews.org
SUMMARY:Walk & Talk Bilingual Language Lab
DESCRIPTION:Drink\, Speak\, Share\, every Wednesday from 9pm-11pm Biblioteca Popolare\, San Concordio\, Via Urbician Come on down and meet some lovely locals. A language exchange group from Italy that started 5 … Continue reading Drink\, Speak\, Share Language Exchange
URL:https://luccanews.org/event/walk-talk-bilingual-language-lab/
LOCATION:International Academy of Italian Cuisine\, via della Zecca 37\, Lucca\, LU\, 55100\, Italy
CATEGORIES:Exercise & Health,Expat Social Gatherings,Wine & Food
ATTACH;FMTTYPE=image/jpeg:https://luccanews.org/wp-content/uploads/2023/06/image0.jpeg
END:VEVENT
BEGIN:VEVENT
DTSTART;TZID=Europe/Rome:20230621T200000
DTEND;TZID=Europe/Rome:20230621T210000
DTSTAMP:20260419T181143
CREATED:20230619T093440Z
LAST-MODIFIED:20230620T175340Z
UID:13930-1687377600-1687381200@luccanews.org
SUMMARY:Ginger Classics Musical Aperitifs
DESCRIPTION:Drink\, Speak\, Share\, every Wednesday from 9pm-11pm Biblioteca Popolare\, San Concordio\, Via Urbician Come on down and meet some lovely locals. A language exchange group from Italy that started 5 … Continue reading Drink\, Speak\, Share Language Exchange
URL:https://luccanews.org/event/less-jazz-quartet/
LOCATION:Real Collegio\, piazza del Collegio 13\, Lucca\, LU\, 55100\, Italy
CATEGORIES:Music-Contemporary
ATTACH;FMTTYPE=image/png:https://luccanews.org/wp-content/uploads/2023/06/Screen-Shot-2023-06-19-at-11.25.24-AM.png
END:VEVENT
END:VCALENDAR