BEGIN:VCALENDAR
VERSION:2.0
PRODID:-//LuccaNews.Org - ECPv6.15.20//NONSGML v1.0//EN
CALSCALE:GREGORIAN
METHOD:PUBLISH
X-WR-CALNAME:LuccaNews.Org
X-ORIGINAL-URL:https://luccanews.org
X-WR-CALDESC:Events for LuccaNews.Org
REFRESH-INTERVAL;VALUE=DURATION:PT1H
X-Robots-Tag:noindex
X-PUBLISHED-TTL:PT1H
BEGIN:VTIMEZONE
TZID:Europe/Rome
BEGIN:DAYLIGHT
TZOFFSETFROM:+0100
TZOFFSETTO:+0200
TZNAME:CEST
DTSTART:20220327T010000
END:DAYLIGHT
BEGIN:STANDARD
TZOFFSETFROM:+0200
TZOFFSETTO:+0100
TZNAME:CET
DTSTART:20221030T010000
END:STANDARD
BEGIN:DAYLIGHT
TZOFFSETFROM:+0100
TZOFFSETTO:+0200
TZNAME:CEST
DTSTART:20230326T010000
END:DAYLIGHT
BEGIN:STANDARD
TZOFFSETFROM:+0200
TZOFFSETTO:+0100
TZNAME:CET
DTSTART:20231029T010000
END:STANDARD
BEGIN:DAYLIGHT
TZOFFSETFROM:+0100
TZOFFSETTO:+0200
TZNAME:CEST
DTSTART:20240331T010000
END:DAYLIGHT
BEGIN:STANDARD
TZOFFSETFROM:+0200
TZOFFSETTO:+0100
TZNAME:CET
DTSTART:20241027T010000
END:STANDARD
END:VTIMEZONE
BEGIN:VEVENT
DTSTART;TZID=Europe/Rome:20230225T080000
DTEND;TZID=Europe/Rome:20230225T130000
DTSTAMP:20260421T114437
CREATED:20230222T133934Z
LAST-MODIFIED:20230222T134059Z
UID:11644-1677312000-1677330000@luccanews.org
SUMMARY:Lucca Outdoor Market\, Piazzale Don Franco Baroni
DESCRIPTION:Drink\, Speak\, Share\, every Wednesday from 9pm-11pm Biblioteca Popolare\, San Concordio\, Via Urbician Come on down and meet some lovely locals. A language exchange group from Italy that started 5 … Continue reading Drink\, Speak\, Share Language Exchange
URL:https://luccanews.org/event/lucca-outdoor-market-piazzale-don-franco-baroni/
LOCATION:piazzale Don Franco Baroni\, piazzale Don Franco Baroni\, Lucca\, LU\, 55100\, Italy
CATEGORIES:Markets
ATTACH;FMTTYPE=image/jpeg:https://luccanews.org/wp-content/uploads/2023/02/IMG_2364-e1677072933617.jpeg
END:VEVENT
BEGIN:VEVENT
DTSTART;TZID=Europe/Rome:20230225T083000
DTEND;TZID=Europe/Rome:20230225T100000
DTSTAMP:20260421T114437
CREATED:20230219T144000Z
LAST-MODIFIED:20230220T144005Z
UID:11557-1677313800-1677319200@luccanews.org
SUMMARY:Wall of Lucca Park Run (Mura di Lucca parkrun)
DESCRIPTION:Drink\, Speak\, Share\, every Wednesday from 9pm-11pm Biblioteca Popolare\, San Concordio\, Via Urbician Come on down and meet some lovely locals. A language exchange group from Italy that started 5 … Continue reading Drink\, Speak\, Share Language Exchange
URL:https://luccanews.org/event/wall-of-lucca-park-run-mura-di-lucca-parkrun/
LOCATION:The wall of Lucca\, Lucca\, LU\, Italy
CATEGORIES:Exercise & Health
ATTACH;FMTTYPE=image/jpeg:https://luccanews.org/wp-content/uploads/2023/02/330421826_657179982832380_5977837019359645855_n.jpg
END:VEVENT
BEGIN:VEVENT
DTSTART;TZID=Europe/Rome:20230701T090000
DTEND;TZID=Europe/Rome:20230701T190000
DTSTAMP:20260421T114437
CREATED:20230621T143708Z
LAST-MODIFIED:20230621T143708Z
UID:14050-1688202000-1688238000@luccanews.org
SUMMARY:Ongoing July Exhibits\, In & Around Lucca
DESCRIPTION:Drink\, Speak\, Share\, every Wednesday from 9pm-11pm Biblioteca Popolare\, San Concordio\, Via Urbician Come on down and meet some lovely locals. A language exchange group from Italy that started 5 … Continue reading Drink\, Speak\, Share Language Exchange
URL:https://luccanews.org/event/ongoing-july-exhibits-in-around-lucca/
CATEGORIES:Exhibits,Kids and families
ATTACH;FMTTYPE=image/png:https://luccanews.org/wp-content/uploads/2023/03/Screen-Shot-2023-03-31-at-1.18.19-PM.png
END:VEVENT
BEGIN:VEVENT
DTSTART;TZID=Europe/Rome:20230701T090000
DTEND;TZID=Europe/Rome:20230701T190000
DTSTAMP:20260421T114437
CREATED:20230621T144039Z
LAST-MODIFIED:20230621T144039Z
UID:14052-1688202000-1688238000@luccanews.org
SUMMARY:Ongoing July Exhibits\, In & Around Lucca
DESCRIPTION:Drink\, Speak\, Share\, every Wednesday from 9pm-11pm Biblioteca Popolare\, San Concordio\, Via Urbician Come on down and meet some lovely locals. A language exchange group from Italy that started 5 … Continue reading Drink\, Speak\, Share Language Exchange
URL:https://luccanews.org/event/ongoing-july-exhibits-in-around-lucca-2/
CATEGORIES:Exhibits,Kids and families
ATTACH;FMTTYPE=image/png:https://luccanews.org/wp-content/uploads/2023/03/Screen-Shot-2023-03-31-at-1.18.19-PM.png
END:VEVENT
BEGIN:VEVENT
DTSTART;TZID=Europe/Rome:20230501T093000
DTEND;TZID=Europe/Rome:20230501T170000
DTSTAMP:20260421T114437
CREATED:20230507T164104Z
LAST-MODIFIED:20230621T144801Z
UID:13403-1682933400-1682960400@luccanews.org
SUMMARY:The World of Pinocchio: 140 years of the puppet's adventures
DESCRIPTION:Drink\, Speak\, Share\, every Wednesday from 9pm-11pm Biblioteca Popolare\, San Concordio\, Via Urbician Come on down and meet some lovely locals. A language exchange group from Italy that started 5 … Continue reading Drink\, Speak\, Share Language Exchange
URL:https://luccanews.org/event/the-world-of-pinocchio-140-years-of-the-puppets-adventures/
LOCATION:Antica Zecca di Lucca\, Casermetta San Donato | Mura Urbane\, Lucca\, LU\, 55100\, Italy
CATEGORIES:Exhibits,Kids and families,Movies in English
ATTACH;FMTTYPE=image/jpeg:https://luccanews.org/wp-content/uploads/2023/05/286982309_435110951955573_819018847911660882_n.jpg
END:VEVENT
BEGIN:VEVENT
DTSTART;TZID=Europe/Rome:20230603T100000
DTEND;TZID=Europe/Rome:20230603T110000
DTSTAMP:20260421T114437
CREATED:20230528T095325Z
LAST-MODIFIED:20230528T095325Z
UID:13710-1685786400-1685790000@luccanews.org
SUMMARY:Yoga on the Walls
DESCRIPTION:Drink\, Speak\, Share\, every Wednesday from 9pm-11pm Biblioteca Popolare\, San Concordio\, Via Urbician Come on down and meet some lovely locals. A language exchange group from Italy that started 5 … Continue reading Drink\, Speak\, Share Language Exchange
URL:https://luccanews.org/event/yoga-on-the-walls/
LOCATION:Baluardo San Martino\, Lucca\, LU\, 55100
CATEGORIES:Exercise & Health
ATTACH;FMTTYPE=image/jpeg:https://luccanews.org/wp-content/uploads/2023/05/218254408_10218824842683084_4242229330912140656_n.jpg
END:VEVENT
BEGIN:VEVENT
DTSTART;TZID=Europe/Rome:20230701T100000
DTEND;TZID=Europe/Rome:20230701T200000
DTSTAMP:20260421T114437
CREATED:20230630T012153Z
LAST-MODIFIED:20230630T012153Z
UID:14170-1688205600-1688241600@luccanews.org
SUMMARY:Meraki Market
DESCRIPTION:Drink\, Speak\, Share\, every Wednesday from 9pm-11pm Biblioteca Popolare\, San Concordio\, Via Urbician Come on down and meet some lovely locals. A language exchange group from Italy that started 5 … Continue reading Drink\, Speak\, Share Language Exchange
URL:https://luccanews.org/event/meraki-market-2-2/
LOCATION:Piazza Gudiccioni\, LUCCA
CATEGORIES:Markets
ATTACH;FMTTYPE=image/jpeg:https://luccanews.org/wp-content/uploads/2023/06/IMG_4472.jpeg
END:VEVENT
BEGIN:VEVENT
DTSTART;TZID=Europe/Rome:20230615T170000
DTEND;TZID=Europe/Rome:20230615T210000
DTSTAMP:20260421T114437
CREATED:20230614T084139Z
LAST-MODIFIED:20230614T084139Z
UID:13841-1686848400-1686862800@luccanews.org
SUMMARY:Summer Film Festival
DESCRIPTION:Drink\, Speak\, Share\, every Wednesday from 9pm-11pm Biblioteca Popolare\, San Concordio\, Via Urbician Come on down and meet some lovely locals. A language exchange group from Italy that started 5 … Continue reading Drink\, Speak\, Share Language Exchange
URL:https://luccanews.org/event/summer-film-festival/
LOCATION:Villa Bottini\, via Elisa 9\, Lucca\, LU\, 55100\, Italy
CATEGORIES:Movies,Movies in English
ATTACH;FMTTYPE=image/png:https://luccanews.org/wp-content/uploads/2023/06/Screen-Shot-2023-06-12-at-2.57.54-PM.png
END:VEVENT
BEGIN:VEVENT
DTSTART;TZID=Europe/Rome:20230701T213000
DTEND;TZID=Europe/Rome:20230701T233000
DTSTAMP:20260421T114437
CREATED:20221108T193834Z
LAST-MODIFIED:20230316T114455Z
UID:9432-1688247000-1688254200@luccanews.org
SUMMARY:Lucca Summer Festival: Simply Red
DESCRIPTION:Drink\, Speak\, Share\, every Wednesday from 9pm-11pm Biblioteca Popolare\, San Concordio\, Via Urbician Come on down and meet some lovely locals. A language exchange group from Italy that started 5 … Continue reading Drink\, Speak\, Share Language Exchange
URL:https://luccanews.org/event/lucca-summer-festival-simply-red/
LOCATION:Piazza Napoleone\, Lucca
CATEGORIES:Music-Contemporary
ATTACH;FMTTYPE=image/jpeg:https://luccanews.org/wp-content/uploads/2022/11/313875295_9036725946344833_159776269740959352_n.jpeg
END:VEVENT
END:VCALENDAR