BEGIN:VCALENDAR
VERSION:2.0
PRODID:-//LuccaNews.Org - ECPv6.15.20//NONSGML v1.0//EN
CALSCALE:GREGORIAN
METHOD:PUBLISH
X-WR-CALNAME:LuccaNews.Org
X-ORIGINAL-URL:https://luccanews.org
X-WR-CALDESC:Events for LuccaNews.Org
REFRESH-INTERVAL;VALUE=DURATION:PT1H
X-Robots-Tag:noindex
X-PUBLISHED-TTL:PT1H
BEGIN:VTIMEZONE
TZID:Europe/Rome
BEGIN:DAYLIGHT
TZOFFSETFROM:+0100
TZOFFSETTO:+0200
TZNAME:CEST
DTSTART:20220327T010000
END:DAYLIGHT
BEGIN:STANDARD
TZOFFSETFROM:+0200
TZOFFSETTO:+0100
TZNAME:CET
DTSTART:20221030T010000
END:STANDARD
BEGIN:DAYLIGHT
TZOFFSETFROM:+0100
TZOFFSETTO:+0200
TZNAME:CEST
DTSTART:20230326T010000
END:DAYLIGHT
BEGIN:STANDARD
TZOFFSETFROM:+0200
TZOFFSETTO:+0100
TZNAME:CET
DTSTART:20231029T010000
END:STANDARD
BEGIN:DAYLIGHT
TZOFFSETFROM:+0100
TZOFFSETTO:+0200
TZNAME:CEST
DTSTART:20240331T010000
END:DAYLIGHT
BEGIN:STANDARD
TZOFFSETFROM:+0200
TZOFFSETTO:+0100
TZNAME:CET
DTSTART:20241027T010000
END:STANDARD
END:VTIMEZONE
BEGIN:VEVENT
DTSTART;TZID=Europe/Rome:20230707T160000
DTEND;TZID=Europe/Rome:20230707T233000
DTSTAMP:20260425T140751
CREATED:20230320T095454Z
LAST-MODIFIED:20230320T095818Z
UID:12472-1688745600-1688772600@luccanews.org
SUMMARY:Limbo Festival 2023
DESCRIPTION:Program 5.30 pm - demonstration of the various activities\, music and dance\, musical groups Mother'S Well and Prequel and the dance schools New Studio Accademico and Scuola di Danza Maria Letizia Torrini ASD. 9:00 pm - comedy show with Samuele Rossi followed by short theatrical sketches by the boys of T come Teatro 🎤 Our super … Continue reading Summer Fest
URL:https://luccanews.org/event/limbo-festival-2023/
LOCATION:Il Ciocco Estate\, Barga
CATEGORIES:Carnival, Festivals, Fairs,Dance,Exercise & Health,Music-Contemporary
ATTACH;FMTTYPE=image/webp:https://luccanews.org/wp-content/uploads/2023/03/limbo-festival-2023-barga-xceed-e9ce.jpg.webp
END:VEVENT
BEGIN:VEVENT
DTSTART;TZID=Europe/Rome:20230707T160000
DTEND;TZID=Europe/Rome:20230707T233000
DTSTAMP:20260425T140751
CREATED:20230320T095454Z
LAST-MODIFIED:20230320T095818Z
UID:12472-1688745600-1688772600@luccanews.org
SUMMARY:Limbo Festival 2023
DESCRIPTION:Program 5.30 pm - demonstration of the various activities\, music and dance\, musical groups Mother'S Well and Prequel and the dance schools New Studio Accademico and Scuola di Danza Maria Letizia Torrini ASD. 9:00 pm - comedy show with Samuele Rossi followed by short theatrical sketches by the boys of T come Teatro 🎤 Our super … Continue reading Summer Fest
URL:https://luccanews.org/event/limbo-festival-2023/
LOCATION:Il Ciocco Estate\, Barga
CATEGORIES:Carnival, Festivals, Fairs,Dance,Exercise & Health,Music-Contemporary
ATTACH;FMTTYPE=image/webp:https://luccanews.org/wp-content/uploads/2023/03/limbo-festival-2023-barga-xceed-e9ce.jpg.webp
END:VEVENT
BEGIN:VEVENT
DTSTART;TZID=Europe/Rome:20230707T160000
DTEND;TZID=Europe/Rome:20230707T233000
DTSTAMP:20260425T140751
CREATED:20230320T095454Z
LAST-MODIFIED:20230320T095818Z
UID:12472-1688745600-1688772600@luccanews.org
SUMMARY:Limbo Festival 2023
DESCRIPTION:Program 5.30 pm - demonstration of the various activities\, music and dance\, musical groups Mother'S Well and Prequel and the dance schools New Studio Accademico and Scuola di Danza Maria Letizia Torrini ASD. 9:00 pm - comedy show with Samuele Rossi followed by short theatrical sketches by the boys of T come Teatro 🎤 Our super … Continue reading Summer Fest
URL:https://luccanews.org/event/limbo-festival-2023/
LOCATION:Il Ciocco Estate\, Barga
CATEGORIES:Carnival, Festivals, Fairs,Dance,Exercise & Health,Music-Contemporary
ATTACH;FMTTYPE=image/webp:https://luccanews.org/wp-content/uploads/2023/03/limbo-festival-2023-barga-xceed-e9ce.jpg.webp
END:VEVENT
BEGIN:VEVENT
DTSTART;TZID=Europe/Rome:20230624T173000
DTEND;TZID=Europe/Rome:20230624T233000
DTSTAMP:20260425T140752
CREATED:20230610T081701Z
LAST-MODIFIED:20230610T083717Z
UID:13811-1687627800-1687649400@luccanews.org
SUMMARY:Summer Fest
DESCRIPTION:Program 5.30 pm - demonstration of the various activities\, music and dance\, musical groups Mother'S Well and Prequel and the dance schools New Studio Accademico and Scuola di Danza Maria Letizia Torrini ASD. 9:00 pm - comedy show with Samuele Rossi followed by short theatrical sketches by the boys of T come Teatro 🎤 Our super … Continue reading Summer Fest
URL:https://luccanews.org/event/summer-fest-2/
LOCATION:Real Collegio\, piazza del Collegio 13\, Lucca\, LU\, 55100\, Italy
CATEGORIES:Dance,Music-Contemporary,Wine & Food
ATTACH;FMTTYPE=image/jpeg:https://luccanews.org/wp-content/uploads/2023/06/351330900_801139044653727_2468211827716490088_n.jpg
END:VEVENT
BEGIN:VEVENT
DTSTART;TZID=Europe/Rome:20230512T000000
DTEND;TZID=Europe/Rome:20230520T235900
DTSTAMP:20260425T140752
CREATED:20230314T133702Z
LAST-MODIFIED:20230515T124909Z
UID:12197-1683849600-1684627140@luccanews.org
SUMMARY:The Dance Meeting
DESCRIPTION:Program 5.30 pm - demonstration of the various activities\, music and dance\, musical groups Mother'S Well and Prequel and the dance schools New Studio Accademico and Scuola di Danza Maria Letizia Torrini ASD. 9:00 pm - comedy show with Samuele Rossi followed by short theatrical sketches by the boys of T come Teatro 🎤 Our super … Continue reading Summer Fest
URL:https://luccanews.org/event/the-dance-meeting/
LOCATION:Teatro del Giglio\, piazza del Giglio\, Lucca\, LU\, 55100\, Italy
CATEGORIES:Dance,Music-Opera & Classical
ATTACH;FMTTYPE=image/jpeg:https://luccanews.org/wp-content/uploads/2023/03/9d61c822ddeb476d9e0c123e0844333c_w300.jpg
ORGANIZER;CN="AED Associazione Europea DANZA":MAILTO:aed@dancenews.it
END:VEVENT
BEGIN:VEVENT
DTSTART;TZID=Europe/Rome:20230512T000000
DTEND;TZID=Europe/Rome:20230520T235900
DTSTAMP:20260425T140752
CREATED:20230314T133702Z
LAST-MODIFIED:20230515T124909Z
UID:12197-1683849600-1684627140@luccanews.org
SUMMARY:The Dance Meeting
DESCRIPTION:Program 5.30 pm - demonstration of the various activities\, music and dance\, musical groups Mother'S Well and Prequel and the dance schools New Studio Accademico and Scuola di Danza Maria Letizia Torrini ASD. 9:00 pm - comedy show with Samuele Rossi followed by short theatrical sketches by the boys of T come Teatro 🎤 Our super … Continue reading Summer Fest
URL:https://luccanews.org/event/the-dance-meeting/
LOCATION:Teatro del Giglio\, piazza del Giglio\, Lucca\, LU\, 55100\, Italy
CATEGORIES:Dance,Music-Opera & Classical
ATTACH;FMTTYPE=image/jpeg:https://luccanews.org/wp-content/uploads/2023/03/9d61c822ddeb476d9e0c123e0844333c_w300.jpg
ORGANIZER;CN="AED Associazione Europea DANZA":MAILTO:aed@dancenews.it
END:VEVENT
BEGIN:VEVENT
DTSTART;TZID=Europe/Rome:20230512T000000
DTEND;TZID=Europe/Rome:20230520T235900
DTSTAMP:20260425T140752
CREATED:20230314T133702Z
LAST-MODIFIED:20230515T124909Z
UID:12197-1683849600-1684627140@luccanews.org
SUMMARY:The Dance Meeting
DESCRIPTION:Program 5.30 pm - demonstration of the various activities\, music and dance\, musical groups Mother'S Well and Prequel and the dance schools New Studio Accademico and Scuola di Danza Maria Letizia Torrini ASD. 9:00 pm - comedy show with Samuele Rossi followed by short theatrical sketches by the boys of T come Teatro 🎤 Our super … Continue reading Summer Fest
URL:https://luccanews.org/event/the-dance-meeting/
LOCATION:Teatro del Giglio\, piazza del Giglio\, Lucca\, LU\, 55100\, Italy
CATEGORIES:Dance,Music-Opera & Classical
ATTACH;FMTTYPE=image/jpeg:https://luccanews.org/wp-content/uploads/2023/03/9d61c822ddeb476d9e0c123e0844333c_w300.jpg
ORGANIZER;CN="AED Associazione Europea DANZA":MAILTO:aed@dancenews.it
END:VEVENT
BEGIN:VEVENT
DTSTART;TZID=Europe/Rome:20230512T000000
DTEND;TZID=Europe/Rome:20230520T235900
DTSTAMP:20260425T140752
CREATED:20230314T133702Z
LAST-MODIFIED:20230515T124909Z
UID:12197-1683849600-1684627140@luccanews.org
SUMMARY:The Dance Meeting
DESCRIPTION:Program 5.30 pm - demonstration of the various activities\, music and dance\, musical groups Mother'S Well and Prequel and the dance schools New Studio Accademico and Scuola di Danza Maria Letizia Torrini ASD. 9:00 pm - comedy show with Samuele Rossi followed by short theatrical sketches by the boys of T come Teatro 🎤 Our super … Continue reading Summer Fest
URL:https://luccanews.org/event/the-dance-meeting/
LOCATION:Teatro del Giglio\, piazza del Giglio\, Lucca\, LU\, 55100\, Italy
CATEGORIES:Dance,Music-Opera & Classical
ATTACH;FMTTYPE=image/jpeg:https://luccanews.org/wp-content/uploads/2023/03/9d61c822ddeb476d9e0c123e0844333c_w300.jpg
ORGANIZER;CN="AED Associazione Europea DANZA":MAILTO:aed@dancenews.it
END:VEVENT
BEGIN:VEVENT
DTSTART;TZID=Europe/Rome:20230512T000000
DTEND;TZID=Europe/Rome:20230520T235900
DTSTAMP:20260425T140752
CREATED:20230314T133702Z
LAST-MODIFIED:20230515T124909Z
UID:12197-1683849600-1684627140@luccanews.org
SUMMARY:The Dance Meeting
DESCRIPTION:Program 5.30 pm - demonstration of the various activities\, music and dance\, musical groups Mother'S Well and Prequel and the dance schools New Studio Accademico and Scuola di Danza Maria Letizia Torrini ASD. 9:00 pm - comedy show with Samuele Rossi followed by short theatrical sketches by the boys of T come Teatro 🎤 Our super … Continue reading Summer Fest
URL:https://luccanews.org/event/the-dance-meeting/
LOCATION:Teatro del Giglio\, piazza del Giglio\, Lucca\, LU\, 55100\, Italy
CATEGORIES:Dance,Music-Opera & Classical
ATTACH;FMTTYPE=image/jpeg:https://luccanews.org/wp-content/uploads/2023/03/9d61c822ddeb476d9e0c123e0844333c_w300.jpg
ORGANIZER;CN="AED Associazione Europea DANZA":MAILTO:aed@dancenews.it
END:VEVENT
BEGIN:VEVENT
DTSTART;TZID=Europe/Rome:20230512T000000
DTEND;TZID=Europe/Rome:20230520T235900
DTSTAMP:20260425T140752
CREATED:20230314T133702Z
LAST-MODIFIED:20230515T124909Z
UID:12197-1683849600-1684627140@luccanews.org
SUMMARY:The Dance Meeting
DESCRIPTION:Program 5.30 pm - demonstration of the various activities\, music and dance\, musical groups Mother'S Well and Prequel and the dance schools New Studio Accademico and Scuola di Danza Maria Letizia Torrini ASD. 9:00 pm - comedy show with Samuele Rossi followed by short theatrical sketches by the boys of T come Teatro 🎤 Our super … Continue reading Summer Fest
URL:https://luccanews.org/event/the-dance-meeting/
LOCATION:Teatro del Giglio\, piazza del Giglio\, Lucca\, LU\, 55100\, Italy
CATEGORIES:Dance,Music-Opera & Classical
ATTACH;FMTTYPE=image/jpeg:https://luccanews.org/wp-content/uploads/2023/03/9d61c822ddeb476d9e0c123e0844333c_w300.jpg
ORGANIZER;CN="AED Associazione Europea DANZA":MAILTO:aed@dancenews.it
END:VEVENT
BEGIN:VEVENT
DTSTART;TZID=Europe/Rome:20230512T000000
DTEND;TZID=Europe/Rome:20230520T235900
DTSTAMP:20260425T140752
CREATED:20230314T133702Z
LAST-MODIFIED:20230515T124909Z
UID:12197-1683849600-1684627140@luccanews.org
SUMMARY:The Dance Meeting
DESCRIPTION:Program 5.30 pm - demonstration of the various activities\, music and dance\, musical groups Mother'S Well and Prequel and the dance schools New Studio Accademico and Scuola di Danza Maria Letizia Torrini ASD. 9:00 pm - comedy show with Samuele Rossi followed by short theatrical sketches by the boys of T come Teatro 🎤 Our super … Continue reading Summer Fest
URL:https://luccanews.org/event/the-dance-meeting/
LOCATION:Teatro del Giglio\, piazza del Giglio\, Lucca\, LU\, 55100\, Italy
CATEGORIES:Dance,Music-Opera & Classical
ATTACH;FMTTYPE=image/jpeg:https://luccanews.org/wp-content/uploads/2023/03/9d61c822ddeb476d9e0c123e0844333c_w300.jpg
ORGANIZER;CN="AED Associazione Europea DANZA":MAILTO:aed@dancenews.it
END:VEVENT
BEGIN:VEVENT
DTSTART;TZID=Europe/Rome:20230512T000000
DTEND;TZID=Europe/Rome:20230520T235900
DTSTAMP:20260425T140752
CREATED:20230314T133702Z
LAST-MODIFIED:20230515T124909Z
UID:12197-1683849600-1684627140@luccanews.org
SUMMARY:The Dance Meeting
DESCRIPTION:Program 5.30 pm - demonstration of the various activities\, music and dance\, musical groups Mother'S Well and Prequel and the dance schools New Studio Accademico and Scuola di Danza Maria Letizia Torrini ASD. 9:00 pm - comedy show with Samuele Rossi followed by short theatrical sketches by the boys of T come Teatro 🎤 Our super … Continue reading Summer Fest
URL:https://luccanews.org/event/the-dance-meeting/
LOCATION:Teatro del Giglio\, piazza del Giglio\, Lucca\, LU\, 55100\, Italy
CATEGORIES:Dance,Music-Opera & Classical
ATTACH;FMTTYPE=image/jpeg:https://luccanews.org/wp-content/uploads/2023/03/9d61c822ddeb476d9e0c123e0844333c_w300.jpg
ORGANIZER;CN="AED Associazione Europea DANZA":MAILTO:aed@dancenews.it
END:VEVENT
BEGIN:VEVENT
DTSTART;TZID=Europe/Rome:20230512T210000
DTEND;TZID=Europe/Rome:20230512T210000
DTSTAMP:20260425T140752
CREATED:20230421T073749Z
LAST-MODIFIED:20230421T073749Z
UID:13227-1683925200-1683925200@luccanews.org
SUMMARY:Swan Lake\, or Song (loosely based on Swan Lake and Anton Chekhov's one-act Swan Song)
DESCRIPTION:Program 5.30 pm - demonstration of the various activities\, music and dance\, musical groups Mother'S Well and Prequel and the dance schools New Studio Accademico and Scuola di Danza Maria Letizia Torrini ASD. 9:00 pm - comedy show with Samuele Rossi followed by short theatrical sketches by the boys of T come Teatro 🎤 Our super … Continue reading Summer Fest
URL:https://luccanews.org/event/swan-lake-or-song-loosely-based-on-swan-lake-and-anton-chekhovs-one-act-swan-song/
LOCATION:Teatro del Giglio\, piazza del Giglio\, Lucca\, LU\, 55100\, Italy
CATEGORIES:Dance,Music-Opera & Classical
ATTACH;FMTTYPE=image/webp:https://luccanews.org/wp-content/uploads/2023/04/FotoBaseLago_2023v10.jpg.webp
END:VEVENT
BEGIN:VEVENT
DTSTART;TZID=Europe/Rome:20230512T000000
DTEND;TZID=Europe/Rome:20230520T235900
DTSTAMP:20260425T140752
CREATED:20230314T133702Z
LAST-MODIFIED:20230515T124909Z
UID:12197-1683849600-1684627140@luccanews.org
SUMMARY:The Dance Meeting
DESCRIPTION:Program 5.30 pm - demonstration of the various activities\, music and dance\, musical groups Mother'S Well and Prequel and the dance schools New Studio Accademico and Scuola di Danza Maria Letizia Torrini ASD. 9:00 pm - comedy show with Samuele Rossi followed by short theatrical sketches by the boys of T come Teatro 🎤 Our super … Continue reading Summer Fest
URL:https://luccanews.org/event/the-dance-meeting/
LOCATION:Teatro del Giglio\, piazza del Giglio\, Lucca\, LU\, 55100\, Italy
CATEGORIES:Dance,Music-Opera & Classical
ATTACH;FMTTYPE=image/jpeg:https://luccanews.org/wp-content/uploads/2023/03/9d61c822ddeb476d9e0c123e0844333c_w300.jpg
ORGANIZER;CN="AED Associazione Europea DANZA":MAILTO:aed@dancenews.it
END:VEVENT
BEGIN:VEVENT
DTSTART;TZID=Europe/Rome:20230507T180000
DTEND;TZID=Europe/Rome:20230507T193000
DTSTAMP:20260425T140752
CREATED:20230504T114524Z
LAST-MODIFIED:20230504T114524Z
UID:13362-1683482400-1683487800@luccanews.org
SUMMARY:May in Dance\, 40th Anniversary
DESCRIPTION:Program 5.30 pm - demonstration of the various activities\, music and dance\, musical groups Mother'S Well and Prequel and the dance schools New Studio Accademico and Scuola di Danza Maria Letizia Torrini ASD. 9:00 pm - comedy show with Samuele Rossi followed by short theatrical sketches by the boys of T come Teatro 🎤 Our super … Continue reading Summer Fest
URL:https://luccanews.org/event/may-in-dance-40th-anniversary/
LOCATION:Real Collegio\, piazza del Collegio 13\, Lucca\, LU\, 55100\, Italy
CATEGORIES:Dance
ATTACH;FMTTYPE=image/jpeg:https://luccanews.org/wp-content/uploads/2023/05/343708114_545754110973964_1628216288479802016_n.jpg
END:VEVENT
BEGIN:VEVENT
DTSTART;TZID=Europe/Rome:20230314T210000
DTEND;TZID=Europe/Rome:20230314T233000
DTSTAMP:20260425T140752
CREATED:20221021T185556Z
LAST-MODIFIED:20230215T095047Z
UID:8904-1678827600-1678836600@luccanews.org
SUMMARY:Ballet "Giulietta"
DESCRIPTION:Program 5.30 pm - demonstration of the various activities\, music and dance\, musical groups Mother'S Well and Prequel and the dance schools New Studio Accademico and Scuola di Danza Maria Letizia Torrini ASD. 9:00 pm - comedy show with Samuele Rossi followed by short theatrical sketches by the boys of T come Teatro 🎤 Our super … Continue reading Summer Fest
URL:https://luccanews.org/event/ballet-giulietta/
LOCATION:Teatro del Giglio\, piazza del Giglio\, Lucca\, LU\, 55100\, Italy
CATEGORIES:Dance
ATTACH;FMTTYPE=image/png:https://luccanews.org/wp-content/uploads/2022/08/DiDanza.png
END:VEVENT
BEGIN:VEVENT
DTSTART;TZID=Europe/Rome:20230303T160000
DTEND;TZID=Europe/Rome:20230303T233000
DTSTAMP:20260425T140752
CREATED:20230223T133118Z
LAST-MODIFIED:20230223T133118Z
UID:11698-1677859200-1677886200@luccanews.org
SUMMARY:Back to the Style\, choreography\, dance workshop & dance party
DESCRIPTION:Program 5.30 pm - demonstration of the various activities\, music and dance\, musical groups Mother'S Well and Prequel and the dance schools New Studio Accademico and Scuola di Danza Maria Letizia Torrini ASD. 9:00 pm - comedy show with Samuele Rossi followed by short theatrical sketches by the boys of T come Teatro 🎤 Our super … Continue reading Summer Fest
URL:https://luccanews.org/event/back-to-the-style-choreography-dance-workshop-dance-party/
LOCATION:Real Collegio\, piazza del Collegio 13\, Lucca\, LU\, 55100\, Italy
CATEGORIES:Dance
ATTACH;FMTTYPE=image/png:https://luccanews.org/wp-content/uploads/2023/02/Orizzontale_bts_23-1.png
END:VEVENT
BEGIN:VEVENT
DTSTART;TZID=Europe/Rome:20230303T160000
DTEND;TZID=Europe/Rome:20230303T233000
DTSTAMP:20260425T140752
CREATED:20230223T133118Z
LAST-MODIFIED:20230223T133118Z
UID:11698-1677859200-1677886200@luccanews.org
SUMMARY:Back to the Style\, choreography\, dance workshop & dance party
DESCRIPTION:Program 5.30 pm - demonstration of the various activities\, music and dance\, musical groups Mother'S Well and Prequel and the dance schools New Studio Accademico and Scuola di Danza Maria Letizia Torrini ASD. 9:00 pm - comedy show with Samuele Rossi followed by short theatrical sketches by the boys of T come Teatro 🎤 Our super … Continue reading Summer Fest
URL:https://luccanews.org/event/back-to-the-style-choreography-dance-workshop-dance-party/
LOCATION:Real Collegio\, piazza del Collegio 13\, Lucca\, LU\, 55100\, Italy
CATEGORIES:Dance
ATTACH;FMTTYPE=image/png:https://luccanews.org/wp-content/uploads/2023/02/Orizzontale_bts_23-1.png
END:VEVENT
BEGIN:VEVENT
DTSTART;TZID=Europe/Rome:20230303T160000
DTEND;TZID=Europe/Rome:20230303T233000
DTSTAMP:20260425T140752
CREATED:20230223T133118Z
LAST-MODIFIED:20230223T133118Z
UID:11698-1677859200-1677886200@luccanews.org
SUMMARY:Back to the Style\, choreography\, dance workshop & dance party
DESCRIPTION:Program 5.30 pm - demonstration of the various activities\, music and dance\, musical groups Mother'S Well and Prequel and the dance schools New Studio Accademico and Scuola di Danza Maria Letizia Torrini ASD. 9:00 pm - comedy show with Samuele Rossi followed by short theatrical sketches by the boys of T come Teatro 🎤 Our super … Continue reading Summer Fest
URL:https://luccanews.org/event/back-to-the-style-choreography-dance-workshop-dance-party/
LOCATION:Real Collegio\, piazza del Collegio 13\, Lucca\, LU\, 55100\, Italy
CATEGORIES:Dance
ATTACH;FMTTYPE=image/png:https://luccanews.org/wp-content/uploads/2023/02/Orizzontale_bts_23-1.png
END:VEVENT
BEGIN:VEVENT
DTSTART;TZID=Europe/Rome:20230221T210000
DTEND;TZID=Europe/Rome:20230221T233000
DTSTAMP:20260425T140752
CREATED:20221021T185046Z
LAST-MODIFIED:20230215T105236Z
UID:8901-1677013200-1677022200@luccanews.org
SUMMARY:Lili Elbe Show Contemporary Dance
DESCRIPTION:Program 5.30 pm - demonstration of the various activities\, music and dance\, musical groups Mother'S Well and Prequel and the dance schools New Studio Accademico and Scuola di Danza Maria Letizia Torrini ASD. 9:00 pm - comedy show with Samuele Rossi followed by short theatrical sketches by the boys of T come Teatro 🎤 Our super … Continue reading Summer Fest
URL:https://luccanews.org/event/lili-elbe-show-contemporary-dance/
LOCATION:Teatro del Giglio\, piazza del Giglio\, Lucca\, LU\, 55100\, Italy
CATEGORIES:Dance
ATTACH;FMTTYPE=image/jpeg:https://luccanews.org/wp-content/uploads/2022/10/PICHINI-BALLETTO-0512-1068x712-1.jpeg
END:VEVENT
END:VCALENDAR