BEGIN:VCALENDAR
VERSION:2.0
PRODID:-//LuccaNews.Org - ECPv6.15.20//NONSGML v1.0//EN
CALSCALE:GREGORIAN
METHOD:PUBLISH
X-ORIGINAL-URL:https://luccanews.org
X-WR-CALDESC:Events for LuccaNews.Org
REFRESH-INTERVAL;VALUE=DURATION:PT1H
X-Robots-Tag:noindex
X-PUBLISHED-TTL:PT1H
BEGIN:VTIMEZONE
TZID:Europe/Rome
BEGIN:DAYLIGHT
TZOFFSETFROM:+0100
TZOFFSETTO:+0200
TZNAME:CEST
DTSTART:20220327T010000
END:DAYLIGHT
BEGIN:STANDARD
TZOFFSETFROM:+0200
TZOFFSETTO:+0100
TZNAME:CET
DTSTART:20221030T010000
END:STANDARD
BEGIN:DAYLIGHT
TZOFFSETFROM:+0100
TZOFFSETTO:+0200
TZNAME:CEST
DTSTART:20230326T010000
END:DAYLIGHT
BEGIN:STANDARD
TZOFFSETFROM:+0200
TZOFFSETTO:+0100
TZNAME:CET
DTSTART:20231029T010000
END:STANDARD
BEGIN:DAYLIGHT
TZOFFSETFROM:+0100
TZOFFSETTO:+0200
TZNAME:CEST
DTSTART:20240331T010000
END:DAYLIGHT
BEGIN:STANDARD
TZOFFSETFROM:+0200
TZOFFSETTO:+0100
TZNAME:CET
DTSTART:20241027T010000
END:STANDARD
END:VTIMEZONE
BEGIN:VEVENT
DTSTART;TZID=Europe/Rome:20230415T080000
DTEND;TZID=Europe/Rome:20230415T190000
DTSTAMP:20260420T114522
CREATED:20230404T131028Z
LAST-MODIFIED:20230404T131139Z
UID:12900-1681545600-1681585200@luccanews.org
SUMMARY:Festa dell'Azalea
DESCRIPTION:Piazza Vittorio Emanuele II – Corso Italia – Logge di Banchi FLOWER NURSERY MARKET EXHIBITION WELLNESS - FOOD AND WINE - CRAFTS VerdePisa is an event dedicated to the protection of nature and the care of greenery and the territory. The event includes an exhibition itinerary that will develop in the historic city center with … Continue reading VerdePisa
URL:https://luccanews.org/event/festa-dellazalea/
LOCATION:Borgo a Mozzano\, Borgo a Mozzano\, Italy
CATEGORIES:Gardening,Markets
ATTACH;FMTTYPE=image/jpeg:https://luccanews.org/wp-content/uploads/2023/04/06009.jpg
END:VEVENT
BEGIN:VEVENT
DTSTART;TZID=Europe/Rome:20230410T100000
DTEND;TZID=Europe/Rome:20230410T163000
DTSTAMP:20260420T114522
CREATED:20230218T162402Z
LAST-MODIFIED:20230319T145939Z
UID:11546-1681120800-1681144200@luccanews.org
SUMMARY:Easter Monday Botanical Treasure Hunt at Villa Reale di Marlia
DESCRIPTION:Piazza Vittorio Emanuele II – Corso Italia – Logge di Banchi FLOWER NURSERY MARKET EXHIBITION WELLNESS - FOOD AND WINE - CRAFTS VerdePisa is an event dedicated to the protection of nature and the care of greenery and the territory. The event includes an exhibition itinerary that will develop in the historic city center with … Continue reading VerdePisa
URL:https://luccanews.org/event/easter-monday-botanical-treasure-hunt-at-villa-reale-di-marlia/
LOCATION:Villa Reale di Marlia\, Via Fraga Alta\, 2\, Marlia\, LU\, 55014
CATEGORIES:Gardening,Kids and families
ATTACH;FMTTYPE=image/webp:https://luccanews.org/wp-content/uploads/2023/02/1322x6471_13151-1000x500.jpg.webp
END:VEVENT
BEGIN:VEVENT
DTSTART;TZID=Europe/Rome:20230408T100000
DTEND;TZID=Europe/Rome:20230408T200000
DTSTAMP:20260420T114522
CREATED:20230406T101607Z
LAST-MODIFIED:20230406T101607Z
UID:12931-1680948000-1680984000@luccanews.org
SUMMARY:VerdePisa
DESCRIPTION:Piazza Vittorio Emanuele II – Corso Italia – Logge di Banchi FLOWER NURSERY MARKET EXHIBITION WELLNESS - FOOD AND WINE - CRAFTS VerdePisa is an event dedicated to the protection of nature and the care of greenery and the territory. The event includes an exhibition itinerary that will develop in the historic city center with … Continue reading VerdePisa
URL:https://luccanews.org/event/verdepisa/
CATEGORIES:Exhibits,Gardening
ATTACH;FMTTYPE=image/jpeg:https://luccanews.org/wp-content/uploads/2023/04/339736691_1243679383209473_1338789784418768260_n.jpg
END:VEVENT
BEGIN:VEVENT
DTSTART;TZID=Europe/Rome:20230408T100000
DTEND;TZID=Europe/Rome:20230408T200000
DTSTAMP:20260420T114522
CREATED:20230406T101607Z
LAST-MODIFIED:20230406T101607Z
UID:12931-1680948000-1680984000@luccanews.org
SUMMARY:VerdePisa
DESCRIPTION:Piazza Vittorio Emanuele II – Corso Italia – Logge di Banchi FLOWER NURSERY MARKET EXHIBITION WELLNESS - FOOD AND WINE - CRAFTS VerdePisa is an event dedicated to the protection of nature and the care of greenery and the territory. The event includes an exhibition itinerary that will develop in the historic city center with … Continue reading VerdePisa
URL:https://luccanews.org/event/verdepisa/
CATEGORIES:Exhibits,Gardening
ATTACH;FMTTYPE=image/jpeg:https://luccanews.org/wp-content/uploads/2023/04/339736691_1243679383209473_1338789784418768260_n.jpg
END:VEVENT
BEGIN:VEVENT
DTSTART;TZID=Europe/Rome:20230408T100000
DTEND;TZID=Europe/Rome:20230408T200000
DTSTAMP:20260420T114522
CREATED:20230406T101607Z
LAST-MODIFIED:20230406T101607Z
UID:12931-1680948000-1680984000@luccanews.org
SUMMARY:VerdePisa
DESCRIPTION:Piazza Vittorio Emanuele II – Corso Italia – Logge di Banchi FLOWER NURSERY MARKET EXHIBITION WELLNESS - FOOD AND WINE - CRAFTS VerdePisa is an event dedicated to the protection of nature and the care of greenery and the territory. The event includes an exhibition itinerary that will develop in the historic city center with … Continue reading VerdePisa
URL:https://luccanews.org/event/verdepisa/
CATEGORIES:Exhibits,Gardening
ATTACH;FMTTYPE=image/jpeg:https://luccanews.org/wp-content/uploads/2023/04/339736691_1243679383209473_1338789784418768260_n.jpg
END:VEVENT
BEGIN:VEVENT
DTSTART;TZID=Europe/Rome:20230401T080000
DTEND;TZID=Europe/Rome:20230401T180000
DTSTAMP:20260420T114522
CREATED:20230219T160717Z
LAST-MODIFIED:20230219T160717Z
UID:11572-1680336000-1680372000@luccanews.org
SUMMARY:Florence Flower Show
DESCRIPTION:Piazza Vittorio Emanuele II – Corso Italia – Logge di Banchi FLOWER NURSERY MARKET EXHIBITION WELLNESS - FOOD AND WINE - CRAFTS VerdePisa is an event dedicated to the protection of nature and the care of greenery and the territory. The event includes an exhibition itinerary that will develop in the historic city center with … Continue reading VerdePisa
URL:https://luccanews.org/event/florence-flower-show-2/
LOCATION:Giardino Corsini\, via della Scala 115\, Florence\, FI\, 50123
CATEGORIES:Gardening
ATTACH;FMTTYPE=image/png:https://luccanews.org/wp-content/uploads/2023/02/Screen-Shot-2023-02-19-at-4.53.38-PM.png
END:VEVENT
BEGIN:VEVENT
DTSTART;TZID=Europe/Rome:20230401T080000
DTEND;TZID=Europe/Rome:20230401T180000
DTSTAMP:20260420T114522
CREATED:20230219T160717Z
LAST-MODIFIED:20230219T160717Z
UID:11572-1680336000-1680372000@luccanews.org
SUMMARY:Florence Flower Show
DESCRIPTION:Piazza Vittorio Emanuele II – Corso Italia – Logge di Banchi FLOWER NURSERY MARKET EXHIBITION WELLNESS - FOOD AND WINE - CRAFTS VerdePisa is an event dedicated to the protection of nature and the care of greenery and the territory. The event includes an exhibition itinerary that will develop in the historic city center with … Continue reading VerdePisa
URL:https://luccanews.org/event/florence-flower-show-2/
LOCATION:Giardino Corsini\, via della Scala 115\, Florence\, FI\, 50123
CATEGORIES:Gardening
ATTACH;FMTTYPE=image/png:https://luccanews.org/wp-content/uploads/2023/02/Screen-Shot-2023-02-19-at-4.53.38-PM.png
END:VEVENT
BEGIN:VEVENT
DTSTART;TZID=Europe/Rome:20230331T100000
DTEND;TZID=Europe/Rome:20230402T193000
DTSTAMP:20260420T114522
CREATED:20221228T151345Z
LAST-MODIFIED:20230215T111230Z
UID:10408-1680256800-1680463800@luccanews.org
SUMMARY:Verdemura
DESCRIPTION:Piazza Vittorio Emanuele II – Corso Italia – Logge di Banchi FLOWER NURSERY MARKET EXHIBITION WELLNESS - FOOD AND WINE - CRAFTS VerdePisa is an event dedicated to the protection of nature and the care of greenery and the territory. The event includes an exhibition itinerary that will develop in the historic city center with … Continue reading VerdePisa
URL:https://luccanews.org/event/verdemura/
LOCATION:The wall of Lucca\, Lucca\, LU\, Italy
CATEGORIES:Gardening
ATTACH;FMTTYPE=image/jpeg:https://luccanews.org/wp-content/uploads/2022/12/riduciImmagine-2.jpeg
END:VEVENT
BEGIN:VEVENT
DTSTART;TZID=Europe/Rome:20230326T093000
DTEND;TZID=Europe/Rome:20230326T123000
DTSTAMP:20260420T114522
CREATED:20230309T121247Z
LAST-MODIFIED:20230309T121247Z
UID:12065-1679823000-1679833800@luccanews.org
SUMMARY:Walk and Lunch at Marlia\, the Villa Reale\, and surroundings
DESCRIPTION:Piazza Vittorio Emanuele II – Corso Italia – Logge di Banchi FLOWER NURSERY MARKET EXHIBITION WELLNESS - FOOD AND WINE - CRAFTS VerdePisa is an event dedicated to the protection of nature and the care of greenery and the territory. The event includes an exhibition itinerary that will develop in the historic city center with … Continue reading VerdePisa
URL:https://luccanews.org/event/walk-and-lunch-at-marlia-the-villa-reale-and-surroundings/
LOCATION:Villa Reale di Marlia\, Via Fraga Alta\, 2\, Marlia\, LU\, 55014
CATEGORIES:Gardening,Wine & Food
ATTACH;FMTTYPE=image/jpeg:https://luccanews.org/wp-content/uploads/2023/03/332173426_733871565076602_2486073009252151305_n.jpg
ORGANIZER;CN="I Camminatori Liberi":MAILTO: icamminatoriliberi@gmail.com
END:VEVENT
BEGIN:VEVENT
DTSTART;TZID=Europe/Rome:20230325T100000
DTEND;TZID=Europe/Rome:20230326T180000
DTSTAMP:20260420T114522
CREATED:20230108T215509Z
LAST-MODIFIED:20230215T111317Z
UID:10692-1679738400-1679853600@luccanews.org
SUMMARY:Spring Edition of the Ancient Camellia Flower Show
DESCRIPTION:Piazza Vittorio Emanuele II – Corso Italia – Logge di Banchi FLOWER NURSERY MARKET EXHIBITION WELLNESS - FOOD AND WINE - CRAFTS VerdePisa is an event dedicated to the protection of nature and the care of greenery and the territory. The event includes an exhibition itinerary that will develop in the historic city center with … Continue reading VerdePisa
URL:https://luccanews.org/event/spring-edition-of-the-ancient-camellia-flower-show-3/
LOCATION:Sant’Andrea di Compito\, via del Cantiere\, Pieve di Compito\, Capannori\, Italy
CATEGORIES:Gardening
ATTACH;FMTTYPE=image/jpeg:https://luccanews.org/wp-content/uploads/2023/01/PGM_6422.jpeg
END:VEVENT
BEGIN:VEVENT
DTSTART;TZID=Europe/Rome:20230325T093000
DTEND;TZID=Europe/Rome:20230325T170000
DTSTAMP:20260420T114522
CREATED:20230320T090422Z
LAST-MODIFIED:20230320T090422Z
UID:12445-1679736600-1679763600@luccanews.org
SUMMARY:Annual Clean the River on Environmental Saturday
DESCRIPTION:Piazza Vittorio Emanuele II – Corso Italia – Logge di Banchi FLOWER NURSERY MARKET EXHIBITION WELLNESS - FOOD AND WINE - CRAFTS VerdePisa is an event dedicated to the protection of nature and the care of greenery and the territory. The event includes an exhibition itinerary that will develop in the historic city center with … Continue reading VerdePisa
URL:https://luccanews.org/event/annual-clean-the-river-on-environmental-saturday/
CATEGORIES:Gardening
ATTACH;FMTTYPE=image/jpeg:https://luccanews.org/wp-content/uploads/2023/03/336397402_163629503204684_5952299008960976641_n.jpg
END:VEVENT
BEGIN:VEVENT
DTSTART;TZID=Europe/Rome:20230322T080000
DTEND;TZID=Europe/Rome:20230322T200000
DTSTAMP:20260420T114522
CREATED:20230322T134859Z
LAST-MODIFIED:20230322T140632Z
UID:12567-1679472000-1679515200@luccanews.org
SUMMARY:Lavender Days in the Hills of Pisa
DESCRIPTION:Piazza Vittorio Emanuele II – Corso Italia – Logge di Banchi FLOWER NURSERY MARKET EXHIBITION WELLNESS - FOOD AND WINE - CRAFTS VerdePisa is an event dedicated to the protection of nature and the care of greenery and the territory. The event includes an exhibition itinerary that will develop in the historic city center with … Continue reading VerdePisa
URL:https://luccanews.org/event/lavender-days-in-pieve-santa-luce/
LOCATION:Flora Aromatica Santa Luce\, Colline Pisane 12 aziende agricole coinvolte\, Pisa\, Italy
CATEGORIES:Exercise & Health,Gardening
ATTACH;FMTTYPE=image/jpeg:https://luccanews.org/wp-content/uploads/2023/03/335611467_1023649735262290_2731519867049412274_n.jpg
END:VEVENT
BEGIN:VEVENT
DTSTART;TZID=Europe/Rome:20230318T100000
DTEND;TZID=Europe/Rome:20230319T180000
DTSTAMP:20260420T114522
CREATED:20230108T215215Z
LAST-MODIFIED:20230215T132712Z
UID:10690-1679133600-1679248800@luccanews.org
SUMMARY:Spring Edition of the Ancient Camellia Flower Show
DESCRIPTION:Piazza Vittorio Emanuele II – Corso Italia – Logge di Banchi FLOWER NURSERY MARKET EXHIBITION WELLNESS - FOOD AND WINE - CRAFTS VerdePisa is an event dedicated to the protection of nature and the care of greenery and the territory. The event includes an exhibition itinerary that will develop in the historic city center with … Continue reading VerdePisa
URL:https://luccanews.org/event/spring-edition-of-the-ancient-camellia-flower-show-2/
LOCATION:Sant’Andrea di Compito\, via del Cantiere\, Pieve di Compito\, Capannori\, Italy
CATEGORIES:Gardening
ATTACH;FMTTYPE=image/jpeg:https://luccanews.org/wp-content/uploads/2023/01/PGM_6422.jpeg
END:VEVENT
BEGIN:VEVENT
DTSTART;TZID=Europe/Rome:20230311T100000
DTEND;TZID=Europe/Rome:20230312T180000
DTSTAMP:20260420T114522
CREATED:20230108T215037Z
LAST-MODIFIED:20230215T132740Z
UID:10685-1678528800-1678644000@luccanews.org
SUMMARY:Spring Edition of the Ancient Camellia Flower Show
DESCRIPTION:Piazza Vittorio Emanuele II – Corso Italia – Logge di Banchi FLOWER NURSERY MARKET EXHIBITION WELLNESS - FOOD AND WINE - CRAFTS VerdePisa is an event dedicated to the protection of nature and the care of greenery and the territory. The event includes an exhibition itinerary that will develop in the historic city center with … Continue reading VerdePisa
URL:https://luccanews.org/event/spring-edition-of-the-ancient-camellia-flower-show/
LOCATION:Sant’Andrea di Compito\, via del Cantiere\, Pieve di Compito\, Capannori\, Italy
CATEGORIES:Gardening
ATTACH;FMTTYPE=image/jpeg:https://luccanews.org/wp-content/uploads/2023/01/PGM_6422.jpeg
END:VEVENT
BEGIN:VEVENT
DTSTART;TZID=Europe/Rome:20230304T100000
DTEND;TZID=Europe/Rome:20230304T180000
DTSTAMP:20260420T114522
CREATED:20230218T160902Z
LAST-MODIFIED:20230218T160902Z
UID:11544-1677924000-1677952800@luccanews.org
SUMMARY:Camellia Preview at Villa Reale di Marlia
DESCRIPTION:Piazza Vittorio Emanuele II – Corso Italia – Logge di Banchi FLOWER NURSERY MARKET EXHIBITION WELLNESS - FOOD AND WINE - CRAFTS VerdePisa is an event dedicated to the protection of nature and the care of greenery and the territory. The event includes an exhibition itinerary that will develop in the historic city center with … Continue reading VerdePisa
URL:https://luccanews.org/event/camellia-preview-at-villa-reale-di-marlia-3/
LOCATION:Villa Reale di Marlia\, Via Fraga Alta\, 2\, Marlia\, LU\, 55014
CATEGORIES:Gardening
ATTACH;FMTTYPE=image/webp:https://luccanews.org/wp-content/uploads/2023/02/Camelia-14_La-Bella-Romana_Villa-Reale-di-Marlia-1-1000x500.jpg.webp
END:VEVENT
BEGIN:VEVENT
DTSTART;TZID=Europe/Rome:20230224T100000
DTEND;TZID=Europe/Rome:20230224T180000
DTSTAMP:20260420T114522
CREATED:20230218T160557Z
LAST-MODIFIED:20230224T090044Z
UID:11541-1677232800-1677261600@luccanews.org
SUMMARY:Camellia Preview at Villa Reale di Marlia
DESCRIPTION:Piazza Vittorio Emanuele II – Corso Italia – Logge di Banchi FLOWER NURSERY MARKET EXHIBITION WELLNESS - FOOD AND WINE - CRAFTS VerdePisa is an event dedicated to the protection of nature and the care of greenery and the territory. The event includes an exhibition itinerary that will develop in the historic city center with … Continue reading VerdePisa
URL:https://luccanews.org/event/camellia-preview-at-villa-reale-di-marlia-2/
LOCATION:Villa Reale di Marlia\, Via Fraga Alta\, 2\, Marlia\, LU\, 55014
CATEGORIES:Gardening
ATTACH;FMTTYPE=image/webp:https://luccanews.org/wp-content/uploads/2023/02/Camelia-14_La-Bella-Romana_Villa-Reale-di-Marlia-1-1000x500.jpg.webp
END:VEVENT
BEGIN:VEVENT
DTSTART;TZID=Europe/Rome:20230224T100000
DTEND;TZID=Europe/Rome:20230224T180000
DTSTAMP:20260420T114523
CREATED:20230218T160557Z
LAST-MODIFIED:20230224T090044Z
UID:11541-1677232800-1677261600@luccanews.org
SUMMARY:Camellia Preview at Villa Reale di Marlia
DESCRIPTION:Piazza Vittorio Emanuele II – Corso Italia – Logge di Banchi FLOWER NURSERY MARKET EXHIBITION WELLNESS - FOOD AND WINE - CRAFTS VerdePisa is an event dedicated to the protection of nature and the care of greenery and the territory. The event includes an exhibition itinerary that will develop in the historic city center with … Continue reading VerdePisa
URL:https://luccanews.org/event/camellia-preview-at-villa-reale-di-marlia-2/
LOCATION:Villa Reale di Marlia\, Via Fraga Alta\, 2\, Marlia\, LU\, 55014
CATEGORIES:Gardening
ATTACH;FMTTYPE=image/webp:https://luccanews.org/wp-content/uploads/2023/02/Camelia-14_La-Bella-Romana_Villa-Reale-di-Marlia-1-1000x500.jpg.webp
END:VEVENT
BEGIN:VEVENT
DTSTART;TZID=Europe/Rome:20230218T100000
DTEND;TZID=Europe/Rome:20230218T180000
DTSTAMP:20260420T114523
CREATED:20230218T154151Z
LAST-MODIFIED:20230218T160448Z
UID:11533-1676714400-1676743200@luccanews.org
SUMMARY:Camellia Preview at Villa Reale di Marlia
DESCRIPTION:Piazza Vittorio Emanuele II – Corso Italia – Logge di Banchi FLOWER NURSERY MARKET EXHIBITION WELLNESS - FOOD AND WINE - CRAFTS VerdePisa is an event dedicated to the protection of nature and the care of greenery and the territory. The event includes an exhibition itinerary that will develop in the historic city center with … Continue reading VerdePisa
URL:https://luccanews.org/event/camellia-preview-at-villa-reale-di-marlia/
LOCATION:Villa Reale di Marlia\, Via Fraga Alta\, 2\, Marlia\, LU\, 55014
CATEGORIES:Gardening
ATTACH;FMTTYPE=image/webp:https://luccanews.org/wp-content/uploads/2023/02/Camelia-14_La-Bella-Romana_Villa-Reale-di-Marlia-1-1000x500.jpg.webp
END:VEVENT
BEGIN:VEVENT
DTSTART;TZID=Europe/Rome:20230218T100000
DTEND;TZID=Europe/Rome:20230218T180000
DTSTAMP:20260420T114523
CREATED:20230218T154151Z
LAST-MODIFIED:20230218T160448Z
UID:11533-1676714400-1676743200@luccanews.org
SUMMARY:Camellia Preview at Villa Reale di Marlia
DESCRIPTION:Piazza Vittorio Emanuele II – Corso Italia – Logge di Banchi FLOWER NURSERY MARKET EXHIBITION WELLNESS - FOOD AND WINE - CRAFTS VerdePisa is an event dedicated to the protection of nature and the care of greenery and the territory. The event includes an exhibition itinerary that will develop in the historic city center with … Continue reading VerdePisa
URL:https://luccanews.org/event/camellia-preview-at-villa-reale-di-marlia/
LOCATION:Villa Reale di Marlia\, Via Fraga Alta\, 2\, Marlia\, LU\, 55014
CATEGORIES:Gardening
ATTACH;FMTTYPE=image/webp:https://luccanews.org/wp-content/uploads/2023/02/Camelia-14_La-Bella-Romana_Villa-Reale-di-Marlia-1-1000x500.jpg.webp
END:VEVENT
END:VCALENDAR