BEGIN:VCALENDAR
VERSION:2.0
PRODID:-//LuccaNews.Org - ECPv6.15.20//NONSGML v1.0//EN
CALSCALE:GREGORIAN
METHOD:PUBLISH
X-ORIGINAL-URL:https://luccanews.org
X-WR-CALDESC:Events for LuccaNews.Org
REFRESH-INTERVAL;VALUE=DURATION:PT1H
X-Robots-Tag:noindex
X-PUBLISHED-TTL:PT1H
BEGIN:VTIMEZONE
TZID:Europe/Rome
BEGIN:DAYLIGHT
TZOFFSETFROM:+0100
TZOFFSETTO:+0200
TZNAME:CEST
DTSTART:20220327T010000
END:DAYLIGHT
BEGIN:STANDARD
TZOFFSETFROM:+0200
TZOFFSETTO:+0100
TZNAME:CET
DTSTART:20221030T010000
END:STANDARD
BEGIN:DAYLIGHT
TZOFFSETFROM:+0100
TZOFFSETTO:+0200
TZNAME:CEST
DTSTART:20230326T010000
END:DAYLIGHT
BEGIN:STANDARD
TZOFFSETFROM:+0200
TZOFFSETTO:+0100
TZNAME:CET
DTSTART:20231029T010000
END:STANDARD
BEGIN:DAYLIGHT
TZOFFSETFROM:+0100
TZOFFSETTO:+0200
TZNAME:CEST
DTSTART:20240331T010000
END:DAYLIGHT
BEGIN:STANDARD
TZOFFSETFROM:+0200
TZOFFSETTO:+0100
TZNAME:CET
DTSTART:20241027T010000
END:STANDARD
END:VTIMEZONE
BEGIN:VEVENT
DTSTART;TZID=Europe/Rome:20230617T120000
DTEND;TZID=Europe/Rome:20230617T210000
DTSTAMP:20260422T112044
CREATED:20230524T123114Z
LAST-MODIFIED:20230524T123115Z
UID:13615-1687003200-1687035600@luccanews.org
SUMMARY:Lucca Oriental Nights
DESCRIPTION:River SUMMER 2023 “EcoSerchio: food\, environment\, sustainability” The "River Festival" is coming back this year\, an event included in the VIVI LUCCA calendar\, to talk together about food\, environment\, sustainability: three closely linked themes that directly involve our future and that of the planet. The food system is at the crossroads of some of the … Continue reading River Festival
URL:https://luccanews.org/event/lucca-oriental-nights/
LOCATION:Real Collegio\, piazza del Collegio 13\, Lucca\, LU\, 55100\, Italy
CATEGORIES:Carnival, Festivals, Fairs,Wine & Food
ATTACH;FMTTYPE=image/jpeg:https://luccanews.org/wp-content/uploads/2023/05/Banner-Lucca.jpg
END:VEVENT
BEGIN:VEVENT
DTSTART;TZID=Europe/Rome:20230616T190000
DTEND;TZID=Europe/Rome:20230616T233000
DTSTAMP:20260422T112044
CREATED:20230605T124927Z
LAST-MODIFIED:20230605T124927Z
UID:13736-1686942000-1686958200@luccanews.org
SUMMARY:Soup Party
DESCRIPTION:River SUMMER 2023 “EcoSerchio: food\, environment\, sustainability” The "River Festival" is coming back this year\, an event included in the VIVI LUCCA calendar\, to talk together about food\, environment\, sustainability: three closely linked themes that directly involve our future and that of the planet. The food system is at the crossroads of some of the … Continue reading River Festival
URL:https://luccanews.org/event/soup-party/
LOCATION:Sant’Angelo in Campo\, Lucca\, LU\, Italy
CATEGORIES:Wine & Food
ATTACH;FMTTYPE=image/jpeg:https://luccanews.org/wp-content/uploads/2023/06/351016965_142790528805572_3928021518703115373_n.jpg
END:VEVENT
BEGIN:VEVENT
DTSTART;TZID=Europe/Rome:20230603T170000
DTEND;TZID=Europe/Rome:20230603T223000
DTSTAMP:20260422T112044
CREATED:20230524T135045Z
LAST-MODIFIED:20230524T135045Z
UID:13633-1685811600-1685831400@luccanews.org
SUMMARY:River Festival
DESCRIPTION:River SUMMER 2023 “EcoSerchio: food\, environment\, sustainability” The "River Festival" is coming back this year\, an event included in the VIVI LUCCA calendar\, to talk together about food\, environment\, sustainability: three closely linked themes that directly involve our future and that of the planet. The food system is at the crossroads of some of the … Continue reading River Festival
URL:https://luccanews.org/event/river-festival/
LOCATION:Urban Farm\, via del Callarone 350\, Nave\, LU\, Italy
CATEGORIES:Carnival, Festivals, Fairs,Wine & Food
ATTACH;FMTTYPE=image/jpeg:https://luccanews.org/wp-content/uploads/2023/05/348923515_558895769515016_6907881864069105090_n.jpg
END:VEVENT
BEGIN:VEVENT
DTSTART;TZID=Europe/Rome:20230617T120000
DTEND;TZID=Europe/Rome:20230617T210000
DTSTAMP:20260422T112044
CREATED:20230524T123114Z
LAST-MODIFIED:20230524T123115Z
UID:13615-1687003200-1687035600@luccanews.org
SUMMARY:Lucca Oriental Nights
DESCRIPTION:River SUMMER 2023 “EcoSerchio: food\, environment\, sustainability” The "River Festival" is coming back this year\, an event included in the VIVI LUCCA calendar\, to talk together about food\, environment\, sustainability: three closely linked themes that directly involve our future and that of the planet. The food system is at the crossroads of some of the … Continue reading River Festival
URL:https://luccanews.org/event/lucca-oriental-nights/
LOCATION:Real Collegio\, piazza del Collegio 13\, Lucca\, LU\, 55100\, Italy
CATEGORIES:Carnival, Festivals, Fairs,Wine & Food
ATTACH;FMTTYPE=image/jpeg:https://luccanews.org/wp-content/uploads/2023/05/Banner-Lucca.jpg
END:VEVENT
BEGIN:VEVENT
DTSTART;TZID=Europe/Rome:20230616T190000
DTEND;TZID=Europe/Rome:20230616T233000
DTSTAMP:20260422T112044
CREATED:20230605T124927Z
LAST-MODIFIED:20230605T124927Z
UID:13736-1686942000-1686958200@luccanews.org
SUMMARY:Soup Party
DESCRIPTION:River SUMMER 2023 “EcoSerchio: food\, environment\, sustainability” The "River Festival" is coming back this year\, an event included in the VIVI LUCCA calendar\, to talk together about food\, environment\, sustainability: three closely linked themes that directly involve our future and that of the planet. The food system is at the crossroads of some of the … Continue reading River Festival
URL:https://luccanews.org/event/soup-party/
LOCATION:Sant’Angelo in Campo\, Lucca\, LU\, Italy
CATEGORIES:Wine & Food
ATTACH;FMTTYPE=image/jpeg:https://luccanews.org/wp-content/uploads/2023/06/351016965_142790528805572_3928021518703115373_n.jpg
END:VEVENT
BEGIN:VEVENT
DTSTART;TZID=Europe/Rome:20230603T170000
DTEND;TZID=Europe/Rome:20230603T223000
DTSTAMP:20260422T112044
CREATED:20230524T135045Z
LAST-MODIFIED:20230524T135045Z
UID:13633-1685811600-1685831400@luccanews.org
SUMMARY:River Festival
DESCRIPTION:River SUMMER 2023 “EcoSerchio: food\, environment\, sustainability” The "River Festival" is coming back this year\, an event included in the VIVI LUCCA calendar\, to talk together about food\, environment\, sustainability: three closely linked themes that directly involve our future and that of the planet. The food system is at the crossroads of some of the … Continue reading River Festival
URL:https://luccanews.org/event/river-festival/
LOCATION:Urban Farm\, via del Callarone 350\, Nave\, LU\, Italy
CATEGORIES:Carnival, Festivals, Fairs,Wine & Food
ATTACH;FMTTYPE=image/jpeg:https://luccanews.org/wp-content/uploads/2023/05/348923515_558895769515016_6907881864069105090_n.jpg
END:VEVENT
BEGIN:VEVENT
DTSTART;TZID=Europe/Rome:20230603T170000
DTEND;TZID=Europe/Rome:20230603T223000
DTSTAMP:20260422T112044
CREATED:20230524T135045Z
LAST-MODIFIED:20230524T135045Z
UID:13633-1685811600-1685831400@luccanews.org
SUMMARY:River Festival
DESCRIPTION:River SUMMER 2023 “EcoSerchio: food\, environment\, sustainability” The "River Festival" is coming back this year\, an event included in the VIVI LUCCA calendar\, to talk together about food\, environment\, sustainability: three closely linked themes that directly involve our future and that of the planet. The food system is at the crossroads of some of the … Continue reading River Festival
URL:https://luccanews.org/event/river-festival/
LOCATION:Urban Farm\, via del Callarone 350\, Nave\, LU\, Italy
CATEGORIES:Carnival, Festivals, Fairs,Wine & Food
ATTACH;FMTTYPE=image/jpeg:https://luccanews.org/wp-content/uploads/2023/05/348923515_558895769515016_6907881864069105090_n.jpg
END:VEVENT
BEGIN:VEVENT
DTSTART;TZID=Europe/Rome:20230603T170000
DTEND;TZID=Europe/Rome:20230603T223000
DTSTAMP:20260422T112044
CREATED:20230524T135045Z
LAST-MODIFIED:20230524T135045Z
UID:13633-1685811600-1685831400@luccanews.org
SUMMARY:River Festival
DESCRIPTION:River SUMMER 2023 “EcoSerchio: food\, environment\, sustainability” The "River Festival" is coming back this year\, an event included in the VIVI LUCCA calendar\, to talk together about food\, environment\, sustainability: three closely linked themes that directly involve our future and that of the planet. The food system is at the crossroads of some of the … Continue reading River Festival
URL:https://luccanews.org/event/river-festival/
LOCATION:Urban Farm\, via del Callarone 350\, Nave\, LU\, Italy
CATEGORIES:Carnival, Festivals, Fairs,Wine & Food
ATTACH;FMTTYPE=image/jpeg:https://luccanews.org/wp-content/uploads/2023/05/348923515_558895769515016_6907881864069105090_n.jpg
END:VEVENT
BEGIN:VEVENT
DTSTART;TZID=Europe/Rome:20230603T170000
DTEND;TZID=Europe/Rome:20230603T223000
DTSTAMP:20260422T112044
CREATED:20230524T135045Z
LAST-MODIFIED:20230524T135045Z
UID:13633-1685811600-1685831400@luccanews.org
SUMMARY:River Festival
DESCRIPTION:River SUMMER 2023 “EcoSerchio: food\, environment\, sustainability” The "River Festival" is coming back this year\, an event included in the VIVI LUCCA calendar\, to talk together about food\, environment\, sustainability: three closely linked themes that directly involve our future and that of the planet. The food system is at the crossroads of some of the … Continue reading River Festival
URL:https://luccanews.org/event/river-festival/
LOCATION:Urban Farm\, via del Callarone 350\, Nave\, LU\, Italy
CATEGORIES:Carnival, Festivals, Fairs,Wine & Food
ATTACH;FMTTYPE=image/jpeg:https://luccanews.org/wp-content/uploads/2023/05/348923515_558895769515016_6907881864069105090_n.jpg
END:VEVENT
BEGIN:VEVENT
DTSTART;TZID=Europe/Rome:20230526T190000
DTEND;TZID=Europe/Rome:20230526T233000
DTSTAMP:20260422T112044
CREATED:20230521T104150Z
LAST-MODIFIED:20230521T104150Z
UID:13587-1685127600-1685143800@luccanews.org
SUMMARY:Cocktail Fest
DESCRIPTION:River SUMMER 2023 “EcoSerchio: food\, environment\, sustainability” The "River Festival" is coming back this year\, an event included in the VIVI LUCCA calendar\, to talk together about food\, environment\, sustainability: three closely linked themes that directly involve our future and that of the planet. The food system is at the crossroads of some of the … Continue reading River Festival
URL:https://luccanews.org/event/cocktail-fest/
LOCATION:LU
CATEGORIES:Wine & Food
ATTACH;FMTTYPE=image/jpeg:https://luccanews.org/wp-content/uploads/2023/05/346097262_183166800931675_3396416439890009281_n.jpg
END:VEVENT
BEGIN:VEVENT
DTSTART;TZID=Europe/Rome:20230526T190000
DTEND;TZID=Europe/Rome:20230526T233000
DTSTAMP:20260422T112044
CREATED:20230521T104150Z
LAST-MODIFIED:20230521T104150Z
UID:13587-1685127600-1685143800@luccanews.org
SUMMARY:Cocktail Fest
DESCRIPTION:River SUMMER 2023 “EcoSerchio: food\, environment\, sustainability” The "River Festival" is coming back this year\, an event included in the VIVI LUCCA calendar\, to talk together about food\, environment\, sustainability: three closely linked themes that directly involve our future and that of the planet. The food system is at the crossroads of some of the … Continue reading River Festival
URL:https://luccanews.org/event/cocktail-fest/
LOCATION:LU
CATEGORIES:Wine & Food
ATTACH;FMTTYPE=image/jpeg:https://luccanews.org/wp-content/uploads/2023/05/346097262_183166800931675_3396416439890009281_n.jpg
END:VEVENT
BEGIN:VEVENT
DTSTART;TZID=Europe/Rome:20230526T190000
DTEND;TZID=Europe/Rome:20230526T233000
DTSTAMP:20260422T112044
CREATED:20230521T104150Z
LAST-MODIFIED:20230521T104150Z
UID:13587-1685127600-1685143800@luccanews.org
SUMMARY:Cocktail Fest
DESCRIPTION:River SUMMER 2023 “EcoSerchio: food\, environment\, sustainability” The "River Festival" is coming back this year\, an event included in the VIVI LUCCA calendar\, to talk together about food\, environment\, sustainability: three closely linked themes that directly involve our future and that of the planet. The food system is at the crossroads of some of the … Continue reading River Festival
URL:https://luccanews.org/event/cocktail-fest/
LOCATION:LU
CATEGORIES:Wine & Food
ATTACH;FMTTYPE=image/jpeg:https://luccanews.org/wp-content/uploads/2023/05/346097262_183166800931675_3396416439890009281_n.jpg
END:VEVENT
BEGIN:VEVENT
DTSTART;TZID=Europe/Rome:20230521T120000
DTEND;TZID=Europe/Rome:20230521T190000
DTSTAMP:20260422T112044
CREATED:20230509T190053Z
LAST-MODIFIED:20230509T190121Z
UID:13431-1684670400-1684695600@luccanews.org
SUMMARY:Tuscany Spirit Festival
DESCRIPTION:River SUMMER 2023 “EcoSerchio: food\, environment\, sustainability” The "River Festival" is coming back this year\, an event included in the VIVI LUCCA calendar\, to talk together about food\, environment\, sustainability: three closely linked themes that directly involve our future and that of the planet. The food system is at the crossroads of some of the … Continue reading River Festival
URL:https://luccanews.org/event/tuscany-spirit-festival/
LOCATION:Fondazione Centro Arti Visive Di Pietrasanta\, Via dei Frati\, 6\, Pietrasanta\, LU\, 55045\, Italy
CATEGORIES:Wine & Food
ATTACH;FMTTYPE=image/jpeg:https://luccanews.org/wp-content/uploads/2023/05/343737965_766872661500692_7370393598669279209_n.jpg
END:VEVENT
BEGIN:VEVENT
DTSTART;TZID=Europe/Rome:20230521T120000
DTEND;TZID=Europe/Rome:20230521T190000
DTSTAMP:20260422T112044
CREATED:20230509T190053Z
LAST-MODIFIED:20230509T190121Z
UID:13431-1684670400-1684695600@luccanews.org
SUMMARY:Tuscany Spirit Festival
DESCRIPTION:River SUMMER 2023 “EcoSerchio: food\, environment\, sustainability” The "River Festival" is coming back this year\, an event included in the VIVI LUCCA calendar\, to talk together about food\, environment\, sustainability: three closely linked themes that directly involve our future and that of the planet. The food system is at the crossroads of some of the … Continue reading River Festival
URL:https://luccanews.org/event/tuscany-spirit-festival/
LOCATION:Fondazione Centro Arti Visive Di Pietrasanta\, Via dei Frati\, 6\, Pietrasanta\, LU\, 55045\, Italy
CATEGORIES:Wine & Food
ATTACH;FMTTYPE=image/jpeg:https://luccanews.org/wp-content/uploads/2023/05/343737965_766872661500692_7370393598669279209_n.jpg
END:VEVENT
BEGIN:VEVENT
DTSTART;TZID=Europe/Rome:20230518T100000
DTEND;TZID=Europe/Rome:20230518T180000
DTSTAMP:20260422T112044
CREATED:20230508T105713Z
LAST-MODIFIED:20230508T105713Z
UID:13426-1684404000-1684432800@luccanews.org
SUMMARY:Lucca Street Food Fest
DESCRIPTION:River SUMMER 2023 “EcoSerchio: food\, environment\, sustainability” The "River Festival" is coming back this year\, an event included in the VIVI LUCCA calendar\, to talk together about food\, environment\, sustainability: three closely linked themes that directly involve our future and that of the planet. The food system is at the crossroads of some of the … Continue reading River Festival
URL:https://luccanews.org/event/lucca-street-food-fest/
LOCATION:piazzale Don Franco Baroni\, piazzale Don Franco Baroni\, Lucca\, LU\, 55100\, Italy
CATEGORIES:Kids and families,Wine & Food
ATTACH;FMTTYPE=image/jpeg:https://luccanews.org/wp-content/uploads/2023/05/343682523_164990976200946_3672916750137474085_n.jpg
END:VEVENT
BEGIN:VEVENT
DTSTART;TZID=Europe/Rome:20230518T100000
DTEND;TZID=Europe/Rome:20230518T180000
DTSTAMP:20260422T112044
CREATED:20230508T105713Z
LAST-MODIFIED:20230508T105713Z
UID:13426-1684404000-1684432800@luccanews.org
SUMMARY:Lucca Street Food Fest
DESCRIPTION:River SUMMER 2023 “EcoSerchio: food\, environment\, sustainability” The "River Festival" is coming back this year\, an event included in the VIVI LUCCA calendar\, to talk together about food\, environment\, sustainability: three closely linked themes that directly involve our future and that of the planet. The food system is at the crossroads of some of the … Continue reading River Festival
URL:https://luccanews.org/event/lucca-street-food-fest/
LOCATION:piazzale Don Franco Baroni\, piazzale Don Franco Baroni\, Lucca\, LU\, 55100\, Italy
CATEGORIES:Kids and families,Wine & Food
ATTACH;FMTTYPE=image/jpeg:https://luccanews.org/wp-content/uploads/2023/05/343682523_164990976200946_3672916750137474085_n.jpg
END:VEVENT
BEGIN:VEVENT
DTSTART;TZID=Europe/Rome:20230518T100000
DTEND;TZID=Europe/Rome:20230518T180000
DTSTAMP:20260422T112044
CREATED:20230508T105713Z
LAST-MODIFIED:20230508T105713Z
UID:13426-1684404000-1684432800@luccanews.org
SUMMARY:Lucca Street Food Fest
DESCRIPTION:River SUMMER 2023 “EcoSerchio: food\, environment\, sustainability” The "River Festival" is coming back this year\, an event included in the VIVI LUCCA calendar\, to talk together about food\, environment\, sustainability: three closely linked themes that directly involve our future and that of the planet. The food system is at the crossroads of some of the … Continue reading River Festival
URL:https://luccanews.org/event/lucca-street-food-fest/
LOCATION:piazzale Don Franco Baroni\, piazzale Don Franco Baroni\, Lucca\, LU\, 55100\, Italy
CATEGORIES:Kids and families,Wine & Food
ATTACH;FMTTYPE=image/jpeg:https://luccanews.org/wp-content/uploads/2023/05/343682523_164990976200946_3672916750137474085_n.jpg
END:VEVENT
BEGIN:VEVENT
DTSTART;TZID=Europe/Rome:20230518T100000
DTEND;TZID=Europe/Rome:20230518T180000
DTSTAMP:20260422T112044
CREATED:20230508T105713Z
LAST-MODIFIED:20230508T105713Z
UID:13426-1684404000-1684432800@luccanews.org
SUMMARY:Lucca Street Food Fest
DESCRIPTION:River SUMMER 2023 “EcoSerchio: food\, environment\, sustainability” The "River Festival" is coming back this year\, an event included in the VIVI LUCCA calendar\, to talk together about food\, environment\, sustainability: three closely linked themes that directly involve our future and that of the planet. The food system is at the crossroads of some of the … Continue reading River Festival
URL:https://luccanews.org/event/lucca-street-food-fest/
LOCATION:piazzale Don Franco Baroni\, piazzale Don Franco Baroni\, Lucca\, LU\, 55100\, Italy
CATEGORIES:Kids and families,Wine & Food
ATTACH;FMTTYPE=image/jpeg:https://luccanews.org/wp-content/uploads/2023/05/343682523_164990976200946_3672916750137474085_n.jpg
END:VEVENT
BEGIN:VEVENT
DTSTART;TZID=Europe/Rome:20230513T170000
DTEND;TZID=Europe/Rome:20230513T230000
DTSTAMP:20260422T112045
CREATED:20230413T115346Z
LAST-MODIFIED:20230413T143138Z
UID:12981-1683997200-1684018800@luccanews.org
SUMMARY:Waiting for the Giro d'Italia Bike Ride
DESCRIPTION:River SUMMER 2023 “EcoSerchio: food\, environment\, sustainability” The "River Festival" is coming back this year\, an event included in the VIVI LUCCA calendar\, to talk together about food\, environment\, sustainability: three closely linked themes that directly involve our future and that of the planet. The food system is at the crossroads of some of the … Continue reading River Festival
URL:https://luccanews.org/event/waiting-for-the-giro-ditalia-bike-ride/
LOCATION:LU
CATEGORIES:Exercise & Health,Wine & Food
ATTACH;FMTTYPE=image/jpeg:https://luccanews.org/wp-content/uploads/2023/04/339985274_3016408478666508_7225404529727916326_n.jpg
END:VEVENT
BEGIN:VEVENT
DTSTART;TZID=Europe/Rome:20230513T170000
DTEND;TZID=Europe/Rome:20230513T230000
DTSTAMP:20260422T112045
CREATED:20230413T115346Z
LAST-MODIFIED:20230413T143138Z
UID:12981-1683997200-1684018800@luccanews.org
SUMMARY:Waiting for the Giro d'Italia Bike Ride
DESCRIPTION:River SUMMER 2023 “EcoSerchio: food\, environment\, sustainability” The "River Festival" is coming back this year\, an event included in the VIVI LUCCA calendar\, to talk together about food\, environment\, sustainability: three closely linked themes that directly involve our future and that of the planet. The food system is at the crossroads of some of the … Continue reading River Festival
URL:https://luccanews.org/event/waiting-for-the-giro-ditalia-bike-ride/
LOCATION:LU
CATEGORIES:Exercise & Health,Wine & Food
ATTACH;FMTTYPE=image/jpeg:https://luccanews.org/wp-content/uploads/2023/04/339985274_3016408478666508_7225404529727916326_n.jpg
END:VEVENT
BEGIN:VEVENT
DTSTART;TZID=Europe/Rome:20230511T120000
DTEND;TZID=Europe/Rome:20230511T220000
DTSTAMP:20260422T112045
CREATED:20230505T062842Z
LAST-MODIFIED:20230515T120839Z
UID:13367-1683806400-1683842400@luccanews.org
SUMMARY:Mercatino Regionale Francese
DESCRIPTION:River SUMMER 2023 “EcoSerchio: food\, environment\, sustainability” The "River Festival" is coming back this year\, an event included in the VIVI LUCCA calendar\, to talk together about food\, environment\, sustainability: three closely linked themes that directly involve our future and that of the planet. The food system is at the crossroads of some of the … Continue reading River Festival
URL:https://luccanews.org/event/mercatino-regionale-francese/
LOCATION:Piazza Napoleone\, Lucca
CATEGORIES:Wine & Food
ATTACH;FMTTYPE=image/jpeg:https://luccanews.org/wp-content/uploads/2023/05/337142770_949552846484687_9203679996274647429_n.jpg
END:VEVENT
BEGIN:VEVENT
DTSTART;TZID=Europe/Rome:20230513T170000
DTEND;TZID=Europe/Rome:20230513T230000
DTSTAMP:20260422T112045
CREATED:20230413T115346Z
LAST-MODIFIED:20230413T143138Z
UID:12981-1683997200-1684018800@luccanews.org
SUMMARY:Waiting for the Giro d'Italia Bike Ride
DESCRIPTION:River SUMMER 2023 “EcoSerchio: food\, environment\, sustainability” The "River Festival" is coming back this year\, an event included in the VIVI LUCCA calendar\, to talk together about food\, environment\, sustainability: three closely linked themes that directly involve our future and that of the planet. The food system is at the crossroads of some of the … Continue reading River Festival
URL:https://luccanews.org/event/waiting-for-the-giro-ditalia-bike-ride/
LOCATION:LU
CATEGORIES:Exercise & Health,Wine & Food
ATTACH;FMTTYPE=image/jpeg:https://luccanews.org/wp-content/uploads/2023/04/339985274_3016408478666508_7225404529727916326_n.jpg
END:VEVENT
BEGIN:VEVENT
DTSTART;TZID=Europe/Rome:20230511T120000
DTEND;TZID=Europe/Rome:20230511T220000
DTSTAMP:20260422T112045
CREATED:20230505T062842Z
LAST-MODIFIED:20230515T120839Z
UID:13367-1683806400-1683842400@luccanews.org
SUMMARY:Mercatino Regionale Francese
DESCRIPTION:River SUMMER 2023 “EcoSerchio: food\, environment\, sustainability” The "River Festival" is coming back this year\, an event included in the VIVI LUCCA calendar\, to talk together about food\, environment\, sustainability: three closely linked themes that directly involve our future and that of the planet. The food system is at the crossroads of some of the … Continue reading River Festival
URL:https://luccanews.org/event/mercatino-regionale-francese/
LOCATION:Piazza Napoleone\, Lucca
CATEGORIES:Wine & Food
ATTACH;FMTTYPE=image/jpeg:https://luccanews.org/wp-content/uploads/2023/05/337142770_949552846484687_9203679996274647429_n.jpg
END:VEVENT
BEGIN:VEVENT
DTSTART;TZID=Europe/Rome:20230513T170000
DTEND;TZID=Europe/Rome:20230513T230000
DTSTAMP:20260422T112045
CREATED:20230413T115346Z
LAST-MODIFIED:20230413T143138Z
UID:12981-1683997200-1684018800@luccanews.org
SUMMARY:Waiting for the Giro d'Italia Bike Ride
DESCRIPTION:River SUMMER 2023 “EcoSerchio: food\, environment\, sustainability” The "River Festival" is coming back this year\, an event included in the VIVI LUCCA calendar\, to talk together about food\, environment\, sustainability: three closely linked themes that directly involve our future and that of the planet. The food system is at the crossroads of some of the … Continue reading River Festival
URL:https://luccanews.org/event/waiting-for-the-giro-ditalia-bike-ride/
LOCATION:LU
CATEGORIES:Exercise & Health,Wine & Food
ATTACH;FMTTYPE=image/jpeg:https://luccanews.org/wp-content/uploads/2023/04/339985274_3016408478666508_7225404529727916326_n.jpg
END:VEVENT
BEGIN:VEVENT
DTSTART;TZID=Europe/Rome:20230511T120000
DTEND;TZID=Europe/Rome:20230511T220000
DTSTAMP:20260422T112045
CREATED:20230505T062842Z
LAST-MODIFIED:20230515T120839Z
UID:13367-1683806400-1683842400@luccanews.org
SUMMARY:Mercatino Regionale Francese
DESCRIPTION:River SUMMER 2023 “EcoSerchio: food\, environment\, sustainability” The "River Festival" is coming back this year\, an event included in the VIVI LUCCA calendar\, to talk together about food\, environment\, sustainability: three closely linked themes that directly involve our future and that of the planet. The food system is at the crossroads of some of the … Continue reading River Festival
URL:https://luccanews.org/event/mercatino-regionale-francese/
LOCATION:Piazza Napoleone\, Lucca
CATEGORIES:Wine & Food
ATTACH;FMTTYPE=image/jpeg:https://luccanews.org/wp-content/uploads/2023/05/337142770_949552846484687_9203679996274647429_n.jpg
END:VEVENT
BEGIN:VEVENT
DTSTART;TZID=Europe/Rome:20230511T120000
DTEND;TZID=Europe/Rome:20230511T220000
DTSTAMP:20260422T112045
CREATED:20230505T062842Z
LAST-MODIFIED:20230515T120839Z
UID:13367-1683806400-1683842400@luccanews.org
SUMMARY:Mercatino Regionale Francese
DESCRIPTION:River SUMMER 2023 “EcoSerchio: food\, environment\, sustainability” The "River Festival" is coming back this year\, an event included in the VIVI LUCCA calendar\, to talk together about food\, environment\, sustainability: three closely linked themes that directly involve our future and that of the planet. The food system is at the crossroads of some of the … Continue reading River Festival
URL:https://luccanews.org/event/mercatino-regionale-francese/
LOCATION:Piazza Napoleone\, Lucca
CATEGORIES:Wine & Food
ATTACH;FMTTYPE=image/jpeg:https://luccanews.org/wp-content/uploads/2023/05/337142770_949552846484687_9203679996274647429_n.jpg
END:VEVENT
BEGIN:VEVENT
DTSTART;TZID=Europe/Rome:20230511T120000
DTEND;TZID=Europe/Rome:20230511T220000
DTSTAMP:20260422T112045
CREATED:20230505T062842Z
LAST-MODIFIED:20230515T120839Z
UID:13367-1683806400-1683842400@luccanews.org
SUMMARY:Mercatino Regionale Francese
DESCRIPTION:River SUMMER 2023 “EcoSerchio: food\, environment\, sustainability” The "River Festival" is coming back this year\, an event included in the VIVI LUCCA calendar\, to talk together about food\, environment\, sustainability: three closely linked themes that directly involve our future and that of the planet. The food system is at the crossroads of some of the … Continue reading River Festival
URL:https://luccanews.org/event/mercatino-regionale-francese/
LOCATION:Piazza Napoleone\, Lucca
CATEGORIES:Wine & Food
ATTACH;FMTTYPE=image/jpeg:https://luccanews.org/wp-content/uploads/2023/05/337142770_949552846484687_9203679996274647429_n.jpg
END:VEVENT
BEGIN:VEVENT
DTSTART;TZID=Europe/Rome:20230510T203000
DTEND;TZID=Europe/Rome:20230510T233000
DTSTAMP:20260422T112045
CREATED:20230501T090039Z
LAST-MODIFIED:20230501T090039Z
UID:13326-1683750600-1683761400@luccanews.org
SUMMARY:Guided Food & Wine Evening with Fabio Caputo of Pellicciano farm
DESCRIPTION:River SUMMER 2023 “EcoSerchio: food\, environment\, sustainability” The "River Festival" is coming back this year\, an event included in the VIVI LUCCA calendar\, to talk together about food\, environment\, sustainability: three closely linked themes that directly involve our future and that of the planet. The food system is at the crossroads of some of the … Continue reading River Festival
URL:https://luccanews.org/event/guided-food-wine-evening-with-fabio-caputo-of-pellicciano-farm/
LOCATION:Bar Osteria Lo Stellario\, Piazza S. Francesco 44-46\, Lucca\, LU\, 55100\, Italy
CATEGORIES:Wine & Food
ATTACH;FMTTYPE=image/jpeg:https://luccanews.org/wp-content/uploads/2023/05/331493251_23855048987060035_4909324060869334591_n.jpg
END:VEVENT
BEGIN:VEVENT
DTSTART;VALUE=DATE:20230506
DTEND;VALUE=DATE:20230507
DTSTAMP:20260422T112045
CREATED:20230416T124540Z
LAST-MODIFIED:20230416T124616Z
UID:13145-1683331200-1683417599@luccanews.org
SUMMARY:Celebrate the coronation of King Charles III in style at Villa Michaela
DESCRIPTION:River SUMMER 2023 “EcoSerchio: food\, environment\, sustainability” The "River Festival" is coming back this year\, an event included in the VIVI LUCCA calendar\, to talk together about food\, environment\, sustainability: three closely linked themes that directly involve our future and that of the planet. The food system is at the crossroads of some of the … Continue reading River Festival
URL:https://luccanews.org/event/celebrate-the-coronation-of-king-charles-iii-in-style-at-villa-michaela/
LOCATION:Villa Michaela\, via di Valle 8\, Vorno-Capannori\, Lucca\, 55060\, Italy
CATEGORIES:Carnival, Festivals, Fairs,Wine & Food
ATTACH;FMTTYPE=image/jpeg:https://luccanews.org/wp-content/uploads/2023/04/Coronation-Final.jpg
END:VEVENT
BEGIN:VEVENT
DTSTART;TZID=Europe/Rome:20230506T110000
DTEND;TZID=Europe/Rome:20230506T190000
DTSTAMP:20260422T112045
CREATED:20230503T120526Z
LAST-MODIFIED:20230503T120526Z
UID:13346-1683370800-1683399600@luccanews.org
SUMMARY:Independent Vineyard Saturday
DESCRIPTION:River SUMMER 2023 “EcoSerchio: food\, environment\, sustainability” The "River Festival" is coming back this year\, an event included in the VIVI LUCCA calendar\, to talk together about food\, environment\, sustainability: three closely linked themes that directly involve our future and that of the planet. The food system is at the crossroads of some of the … Continue reading River Festival
URL:https://luccanews.org/event/independent-vineyard-saturday/
LOCATION:Piazza San Michele\, Lucca\, LU\, 55100\, Italy
CATEGORIES:Wine & Food
ATTACH;FMTTYPE=image/jpeg:https://luccanews.org/wp-content/uploads/2023/05/333409122_23854318480180716_8870288442233746978_n.jpg
END:VEVENT
END:VCALENDAR