BEGIN:VCALENDAR
VERSION:2.0
PRODID:-//LuccaNews.Org - ECPv6.15.20//NONSGML v1.0//EN
CALSCALE:GREGORIAN
METHOD:PUBLISH
X-WR-CALNAME:LuccaNews.Org
X-ORIGINAL-URL:https://luccanews.org
X-WR-CALDESC:Events for LuccaNews.Org
REFRESH-INTERVAL;VALUE=DURATION:PT1H
X-Robots-Tag:noindex
X-PUBLISHED-TTL:PT1H
BEGIN:VTIMEZONE
TZID:Europe/Rome
BEGIN:DAYLIGHT
TZOFFSETFROM:+0100
TZOFFSETTO:+0200
TZNAME:CEST
DTSTART:20210328T010000
END:DAYLIGHT
BEGIN:STANDARD
TZOFFSETFROM:+0200
TZOFFSETTO:+0100
TZNAME:CET
DTSTART:20211031T010000
END:STANDARD
BEGIN:DAYLIGHT
TZOFFSETFROM:+0100
TZOFFSETTO:+0200
TZNAME:CEST
DTSTART:20220327T010000
END:DAYLIGHT
BEGIN:STANDARD
TZOFFSETFROM:+0200
TZOFFSETTO:+0100
TZNAME:CET
DTSTART:20221030T010000
END:STANDARD
BEGIN:DAYLIGHT
TZOFFSETFROM:+0100
TZOFFSETTO:+0200
TZNAME:CEST
DTSTART:20230326T010000
END:DAYLIGHT
BEGIN:STANDARD
TZOFFSETFROM:+0200
TZOFFSETTO:+0100
TZNAME:CET
DTSTART:20231029T010000
END:STANDARD
BEGIN:DAYLIGHT
TZOFFSETFROM:+0100
TZOFFSETTO:+0200
TZNAME:CEST
DTSTART:20240331T010000
END:DAYLIGHT
BEGIN:STANDARD
TZOFFSETFROM:+0200
TZOFFSETTO:+0100
TZNAME:CET
DTSTART:20241027T010000
END:STANDARD
END:VTIMEZONE
BEGIN:VEVENT
DTSTART;VALUE=DATE:20221217
DTEND;VALUE=DATE:20221224
DTSTAMP:20260425T193312
CREATED:20221126T094718Z
LAST-MODIFIED:20221126T094718Z
UID:9769-1671235200-1671839999@luccanews.org
SUMMARY:Artisan Market
DESCRIPTION:Drink\, Speak Share Every Wednesday 9pm-11pm Biblioteca Popolare\, San Concordio\, Via Urbiciani Come on down and meet some lovely locals. A language exchange group from Italy that started 5 years … Continue reading Drink\, Speak\, Share Language Exchange
URL:https://luccanews.org/event/artisan-market-8/
LOCATION:piazza San Giusto\, pizza San Giusto\, Lucca\, LU\, 55100\, Italy
ATTACH;FMTTYPE=image/jpeg:https://luccanews.org/wp-content/uploads/2022/11/360_F_204588304_UXqaTmopLgVYTjwFIFkauQXlrrt0x2WH.jpeg
END:VEVENT
BEGIN:VEVENT
DTSTART;TZID=Europe/Rome:20221217T090000
DTEND;TZID=Europe/Rome:20221218T190000
DTSTAMP:20260425T193312
CREATED:20221113T122036Z
LAST-MODIFIED:20221113T122036Z
UID:9504-1671267600-1671390000@luccanews.org
SUMMARY:Antiques Market
DESCRIPTION:Drink\, Speak Share Every Wednesday 9pm-11pm Biblioteca Popolare\, San Concordio\, Via Urbiciani Come on down and meet some lovely locals. A language exchange group from Italy that started 5 years … Continue reading Drink\, Speak\, Share Language Exchange
URL:https://luccanews.org/event/antiques-market-5/
LOCATION:Piazza Napoleone\, Lucca
ATTACH;FMTTYPE=image/png:https://luccanews.org/wp-content/uploads/2022/04/278660381_10160193124951979_5227010219033935496_n.png
END:VEVENT
BEGIN:VEVENT
DTSTART;TZID=Europe/Rome:20221217T093000
DTEND;TZID=Europe/Rome:20221218T210000
DTSTAMP:20260425T193312
CREATED:20221127T134920Z
LAST-MODIFIED:20221127T134920Z
UID:9869-1671269400-1671397200@luccanews.org
SUMMARY:Magical Christmas at Villa Reale
DESCRIPTION:Drink\, Speak Share Every Wednesday 9pm-11pm Biblioteca Popolare\, San Concordio\, Via Urbiciani Come on down and meet some lovely locals. A language exchange group from Italy that started 5 years … Continue reading Drink\, Speak\, Share Language Exchange
URL:https://luccanews.org/event/magical-christmas-at-villa-reale-2/
LOCATION:Villa Reale di Marlia\, Via Fraga Alta\, 2\, Marlia\, LU\, 55014
ATTACH;FMTTYPE=image/jpeg:https://luccanews.org/wp-content/uploads/2022/11/316040937_8335375416536717_1350254634761861458_n.jpeg
END:VEVENT
BEGIN:VEVENT
DTSTART;TZID=Europe/Rome:20221217T100000
DTEND;TZID=Europe/Rome:20221223T200000
DTSTAMP:20260425T193312
CREATED:20221102T190635Z
LAST-MODIFIED:20221204T232728Z
UID:9218-1671271200-1671825600@luccanews.org
SUMMARY:Meraki Artisan Market
DESCRIPTION:Drink\, Speak Share Every Wednesday 9pm-11pm Biblioteca Popolare\, San Concordio\, Via Urbiciani Come on down and meet some lovely locals. A language exchange group from Italy that started 5 years … Continue reading Drink\, Speak\, Share Language Exchange
URL:https://luccanews.org/event/meraki-artisan-market-5/
LOCATION:Mercato del Carmine\, via Nuova\, Lucca\, LU\, 55100\, Italy
ATTACH;FMTTYPE=image/jpeg:https://luccanews.org/wp-content/uploads/2022/11/unnamed-3.jpeg
END:VEVENT
BEGIN:VEVENT
DTSTART;TZID=Europe/Rome:20221217T160000
DTEND;TZID=Europe/Rome:20221217T180000
DTSTAMP:20260425T193312
CREATED:20221126T205732Z
LAST-MODIFIED:20221126T205732Z
UID:9804-1671292800-1671300000@luccanews.org
SUMMARY:Christmas Concert "The Music of Angels and Shepherds"
DESCRIPTION:Drink\, Speak Share Every Wednesday 9pm-11pm Biblioteca Popolare\, San Concordio\, Via Urbiciani Come on down and meet some lovely locals. A language exchange group from Italy that started 5 years … Continue reading Drink\, Speak\, Share Language Exchange
URL:https://luccanews.org/event/christmas-concert-the-music-of-angels-and-shepherds/
LOCATION:Museum Villa Guinigi\, via della Quarquonia 4\, Lucca\, LU\, 55100\, Italy
ATTACH;FMTTYPE=image/jpeg:https://luccanews.org/wp-content/uploads/2022/11/316410596_506179578208526_9024913624939459043_n.jpeg
END:VEVENT
BEGIN:VEVENT
DTSTART;TZID=Europe/Rome:20221217T180000
DTEND;TZID=Europe/Rome:20221217T190000
DTSTAMP:20260425T193312
CREATED:20221215T111459Z
LAST-MODIFIED:20221215T111459Z
UID:10106-1671300000-1671303600@luccanews.org
SUMMARY:Jazz Concert
DESCRIPTION:Drink\, Speak Share Every Wednesday 9pm-11pm Biblioteca Popolare\, San Concordio\, Via Urbiciani Come on down and meet some lovely locals. A language exchange group from Italy that started 5 years … Continue reading Drink\, Speak\, Share Language Exchange
URL:https://luccanews.org/event/jazz-concert-2/
LOCATION:piazza San Romao\, piazza San Romano\, Lucca\, LU\, 55100\, Italy
ATTACH;FMTTYPE=image/jpeg:https://luccanews.org/wp-content/uploads/2022/12/319048557_636092454975092_1994067968100664828_n.jpeg
END:VEVENT
BEGIN:VEVENT
DTSTART;TZID=Europe/Rome:20221217T203000
DTEND;TZID=Europe/Rome:20221217T210000
DTSTAMP:20260425T193312
CREATED:20221102T131959Z
LAST-MODIFIED:20221102T131959Z
UID:9167-1671309000-1671310800@luccanews.org
SUMMARY:A Christmas Carol
DESCRIPTION:Drink\, Speak Share Every Wednesday 9pm-11pm Biblioteca Popolare\, San Concordio\, Via Urbiciani Come on down and meet some lovely locals. A language exchange group from Italy that started 5 years … Continue reading Drink\, Speak\, Share Language Exchange
URL:https://luccanews.org/event/a-christmas-carol-2/
LOCATION:Teatro Verdi Florence\, via Ghibellina 99\, Florence\, FI\, 50122\, Italy
ATTACH;FMTTYPE=image/jpeg:https://luccanews.org/wp-content/uploads/2022/10/christmas-carol-canto-biglietti-2.jpeg
END:VEVENT
BEGIN:VEVENT
DTSTART;TZID=Europe/Rome:20221217T203000
DTEND;TZID=Europe/Rome:20221217T223000
DTSTAMP:20260425T193312
CREATED:20221126T103659Z
LAST-MODIFIED:20221126T103659Z
UID:9785-1671309000-1671316200@luccanews.org
SUMMARY:Concert with Freedom Singers Gospel Choir
DESCRIPTION:Drink\, Speak Share Every Wednesday 9pm-11pm Biblioteca Popolare\, San Concordio\, Via Urbiciani Come on down and meet some lovely locals. A language exchange group from Italy that started 5 years … Continue reading Drink\, Speak\, Share Language Exchange
URL:https://luccanews.org/event/concert-with-freedom-singers-gospel-choir/
LOCATION:Auditorium del Suffragio\, piazza del Suffragio 6\, Lucca\, LU\, 55100\, Italy
ATTACH;FMTTYPE=image/jpeg:https://luccanews.org/wp-content/uploads/2022/11/LMN-torre-guiniginotte.jpg
END:VEVENT
BEGIN:VEVENT
DTSTART;TZID=Europe/Rome:20221217T210000
DTEND;TZID=Europe/Rome:20221217T230000
DTSTAMP:20260425T193312
CREATED:20221211T203903Z
LAST-MODIFIED:20221211T203903Z
UID:10027-1671310800-1671318000@luccanews.org
SUMMARY:Christmas Concert
DESCRIPTION:Drink\, Speak Share Every Wednesday 9pm-11pm Biblioteca Popolare\, San Concordio\, Via Urbiciani Come on down and meet some lovely locals. A language exchange group from Italy that started 5 years … Continue reading Drink\, Speak\, Share Language Exchange
URL:https://luccanews.org/event/christmas-concert-4/
LOCATION:Il Pinturicchio\, Via Batoni 127\, Lucca\, Lucca\, 55100\, Italy
ATTACH;FMTTYPE=image/jpeg:https://luccanews.org/wp-content/uploads/2022/12/319506126_601012742026691_1429066825038889765_n.jpeg
END:VEVENT
BEGIN:VEVENT
DTSTART;TZID=Europe/Rome:20221218T093000
DTEND;TZID=Europe/Rome:20221218T230000
DTSTAMP:20260425T193313
CREATED:20221104T090525Z
LAST-MODIFIED:20221104T090525Z
UID:9370-1671355800-1671404400@luccanews.org
SUMMARY:Walkzone on the Wall
DESCRIPTION:Drink\, Speak Share Every Wednesday 9pm-11pm Biblioteca Popolare\, San Concordio\, Via Urbiciani Come on down and meet some lovely locals. A language exchange group from Italy that started 5 years … Continue reading Drink\, Speak\, Share Language Exchange
URL:https://luccanews.org/event/walkzone-on-the-wall-2/
LOCATION:piazzale Verdi\, Entrance Porta Sant'Anna piazzale Verdi\, Lucca\, LU\, 55100\, Italy
ATTACH;FMTTYPE=image/jpeg:https://luccanews.org/wp-content/uploads/2022/10/306154279_3458435631042103_4190228294425194907_n.jpeg
END:VEVENT
BEGIN:VEVENT
DTSTART;TZID=Europe/Rome:20221218T100000
DTEND;TZID=Europe/Rome:20221218T190000
DTSTAMP:20260425T193313
CREATED:20221211T205645Z
LAST-MODIFIED:20221211T205645Z
UID:10035-1671357600-1671390000@luccanews.org
SUMMARY:Used CDs\, DVDs and Vinyl Market and Exchange
DESCRIPTION:Drink\, Speak Share Every Wednesday 9pm-11pm Biblioteca Popolare\, San Concordio\, Via Urbiciani Come on down and meet some lovely locals. A language exchange group from Italy that started 5 years … Continue reading Drink\, Speak\, Share Language Exchange
URL:https://luccanews.org/event/used-cds-dvds-and-vinyl-market-and-exchange/
LOCATION:Foro Boario\, via per Camaiore 124\, Lucca\, LU\, 55100\, Italy
ATTACH;FMTTYPE=image/jpeg:https://luccanews.org/wp-content/uploads/2022/12/317516379_688543542806507_2837243776958978255_n.jpeg
END:VEVENT
BEGIN:VEVENT
DTSTART;TZID=Europe/Rome:20221218T140000
DTEND;TZID=Europe/Rome:20221218T180000
DTSTAMP:20260425T193313
CREATED:20221211T172609Z
LAST-MODIFIED:20221211T172609Z
UID:10003-1671372000-1671386400@luccanews.org
SUMMARY:Christmas Bazaar
DESCRIPTION:Drink\, Speak Share Every Wednesday 9pm-11pm Biblioteca Popolare\, San Concordio\, Via Urbiciani Come on down and meet some lovely locals. A language exchange group from Italy that started 5 years … Continue reading Drink\, Speak\, Share Language Exchange
URL:https://luccanews.org/event/christmas-bazaar/
LOCATION:chiesa evangelica valdese\, via Talli Gassi 50\, Lucca\, LU\, 55100\, Italy
ATTACH;FMTTYPE=image/jpeg:https://luccanews.org/wp-content/uploads/2022/12/318120996_10223325136941318_6222306928928546389_n.jpeg
END:VEVENT
BEGIN:VEVENT
DTSTART;TZID=Europe/Rome:20221218T160000
DTEND;TZID=Europe/Rome:20221218T180000
DTSTAMP:20260425T193313
CREATED:20221126T210917Z
LAST-MODIFIED:20221215T102407Z
UID:9812-1671379200-1671386400@luccanews.org
SUMMARY:Christmas Concert "Christmas in the Palazzo"
DESCRIPTION:Drink\, Speak Share Every Wednesday 9pm-11pm Biblioteca Popolare\, San Concordio\, Via Urbiciani Come on down and meet some lovely locals. A language exchange group from Italy that started 5 years … Continue reading Drink\, Speak\, Share Language Exchange
URL:https://luccanews.org/event/christmas-concert-christmas-in-the-palazzo/
LOCATION:Palazzo Mansi\, via Talli Gassi 43\, Lucca\, LU\, 55100\, Italy
ATTACH;FMTTYPE=image/jpeg:https://luccanews.org/wp-content/uploads/2022/11/316410596_506179578208526_9024913624939459043_n.jpeg
END:VEVENT
BEGIN:VEVENT
DTSTART;TZID=Europe/Rome:20221218T160000
DTEND;TZID=Europe/Rome:20221218T180000
DTSTAMP:20260425T193313
CREATED:20221126T211510Z
LAST-MODIFIED:20221215T101249Z
UID:9817-1671379200-1671386400@luccanews.org
SUMMARY:Christmas at the Puccini Museum
DESCRIPTION:Drink\, Speak Share Every Wednesday 9pm-11pm Biblioteca Popolare\, San Concordio\, Via Urbiciani Come on down and meet some lovely locals. A language exchange group from Italy that started 5 years … Continue reading Drink\, Speak\, Share Language Exchange
URL:https://luccanews.org/event/christmas-at-the-puccini-museum/
LOCATION:Puccini Museum\, piazza Cittadella 5\, Lucca\, LU\, 55100\, Italy
ATTACH;FMTTYPE=image/jpeg:https://luccanews.org/wp-content/uploads/2022/11/316410596_506179578208526_9024913624939459043_n.jpeg
END:VEVENT
BEGIN:VEVENT
DTSTART;TZID=Europe/Rome:20221218T160000
DTEND;TZID=Europe/Rome:20221218T180000
DTSTAMP:20260425T193313
CREATED:20221216T180658Z
LAST-MODIFIED:20221216T180658Z
UID:10193-1671379200-1671386400@luccanews.org
SUMMARY:Christmas Concert
DESCRIPTION:Drink\, Speak Share Every Wednesday 9pm-11pm Biblioteca Popolare\, San Concordio\, Via Urbiciani Come on down and meet some lovely locals. A language exchange group from Italy that started 5 years … Continue reading Drink\, Speak\, Share Language Exchange
URL:https://luccanews.org/event/christmas-concert-9/
LOCATION:Sinfonia Music School\, via Nazaro Sauro 527\, Lucca\, LU\, 55100\, Italy
ATTACH;FMTTYPE=image/jpeg:https://luccanews.org/wp-content/uploads/2022/12/320399868_1503245993504151_7145793911057857871_n.jpeg
END:VEVENT
BEGIN:VEVENT
DTSTART;TZID=Europe/Rome:20221218T170000
DTEND;TZID=Europe/Rome:20221218T190000
DTSTAMP:20260425T193313
CREATED:20221216T175958Z
LAST-MODIFIED:20221216T175958Z
UID:10190-1671382800-1671390000@luccanews.org
SUMMARY:Christmas Concert
DESCRIPTION:Drink\, Speak Share Every Wednesday 9pm-11pm Biblioteca Popolare\, San Concordio\, Via Urbiciani Come on down and meet some lovely locals. A language exchange group from Italy that started 5 years … Continue reading Drink\, Speak\, Share Language Exchange
URL:https://luccanews.org/event/christmas-concert-8/
LOCATION:Church of San Francesco\, piazza San Francesco\, Lucca\, LU\, 55100\, Italy
ATTACH;FMTTYPE=image/jpeg:https://luccanews.org/wp-content/uploads/2022/12/320489885_927172898659654_3743559887852649700_n.jpeg
END:VEVENT
BEGIN:VEVENT
DTSTART;TZID=Europe/Rome:20221218T180000
DTEND;TZID=Europe/Rome:20221218T200000
DTSTAMP:20260425T193313
CREATED:20221102T132157Z
LAST-MODIFIED:20221102T132157Z
UID:9171-1671386400-1671393600@luccanews.org
SUMMARY:A Christmas Carol
DESCRIPTION:Drink\, Speak Share Every Wednesday 9pm-11pm Biblioteca Popolare\, San Concordio\, Via Urbiciani Come on down and meet some lovely locals. A language exchange group from Italy that started 5 years … Continue reading Drink\, Speak\, Share Language Exchange
URL:https://luccanews.org/event/a-christmas-carol-3/
LOCATION:Teatro Verdi Florence\, via Ghibellina 99\, Florence\, FI\, 50122\, Italy
ATTACH;FMTTYPE=image/jpeg:https://luccanews.org/wp-content/uploads/2022/10/christmas-carol-canto-biglietti-2.jpeg
END:VEVENT
BEGIN:VEVENT
DTSTART;TZID=Europe/Rome:20221218T210000
DTEND;TZID=Europe/Rome:20221218T230000
DTSTAMP:20260425T193313
CREATED:20221211T204309Z
LAST-MODIFIED:20221211T204309Z
UID:10033-1671397200-1671404400@luccanews.org
SUMMARY:Christmas Concert
DESCRIPTION:Drink\, Speak Share Every Wednesday 9pm-11pm Biblioteca Popolare\, San Concordio\, Via Urbiciani Come on down and meet some lovely locals. A language exchange group from Italy that started 5 years … Continue reading Drink\, Speak\, Share Language Exchange
URL:https://luccanews.org/event/christmas-concert-5/
LOCATION:Il Pinturicchio\, Via Batoni 127\, Lucca\, Lucca\, 55100\, Italy
ATTACH;FMTTYPE=image/jpeg:https://luccanews.org/wp-content/uploads/2022/12/319506126_601012742026691_1429066825038889765_n.jpeg
END:VEVENT
BEGIN:VEVENT
DTSTART;TZID=Europe/Rome:20221219T093000
DTEND;TZID=Europe/Rome:20221219T180000
DTSTAMP:20260425T193313
CREATED:20221215T085258Z
LAST-MODIFIED:20221215T085258Z
UID:10057-1671442200-1671472800@luccanews.org
SUMMARY:Christmas Market
DESCRIPTION:Drink\, Speak Share Every Wednesday 9pm-11pm Biblioteca Popolare\, San Concordio\, Via Urbiciani Come on down and meet some lovely locals. A language exchange group from Italy that started 5 years … Continue reading Drink\, Speak\, Share Language Exchange
URL:https://luccanews.org/event/christmas-market-2/
LOCATION:piazza San Donato\, piazza San Donato\, Lucca\, LU\, 55100\, Italy
ATTACH;FMTTYPE=image/jpeg:https://luccanews.org/wp-content/uploads/2022/12/piazzale-san-donato-mercatino-natale-scuola-primaria-dante-alighieri-scuola-infanzia-girasole-371177.jpeg
END:VEVENT
BEGIN:VEVENT
DTSTART;TZID=Europe/Rome:20221219T170000
DTEND;TZID=Europe/Rome:20221219T190000
DTSTAMP:20260425T193313
CREATED:20221211T215147Z
LAST-MODIFIED:20221219T084334Z
UID:10043-1671469200-1671476400@luccanews.org
SUMMARY:Movie in English: Avatar - The Way of Water
DESCRIPTION:Drink\, Speak Share Every Wednesday 9pm-11pm Biblioteca Popolare\, San Concordio\, Via Urbiciani Come on down and meet some lovely locals. A language exchange group from Italy that started 5 years … Continue reading Drink\, Speak\, Share Language Exchange
URL:https://luccanews.org/event/movie-in-english-avatar-the-streets-of-water/
LOCATION:Cinema Moderno\, Via Vittorio Emanuele II\, Lucca\, LU\, 55100\, Italy
ATTACH;FMTTYPE=image/jpeg:https://luccanews.org/wp-content/uploads/2022/12/avatar2-300x444-1.jpeg
END:VEVENT
BEGIN:VEVENT
DTSTART;TZID=Europe/Rome:20221219T180000
DTEND;TZID=Europe/Rome:20221219T200000
DTSTAMP:20260425T193313
CREATED:20221216T175712Z
LAST-MODIFIED:20221216T175712Z
UID:10183-1671472800-1671480000@luccanews.org
SUMMARY:Christmas Concert
DESCRIPTION:Drink\, Speak Share Every Wednesday 9pm-11pm Biblioteca Popolare\, San Concordio\, Via Urbiciani Come on down and meet some lovely locals. A language exchange group from Italy that started 5 years … Continue reading Drink\, Speak\, Share Language Exchange
URL:https://luccanews.org/event/christmas-concert-7/
LOCATION:Church of San Paolino\, via San Paolino 128\, Lucca\, LU\, 55100\, Italy
ATTACH;FMTTYPE=image/jpeg:https://luccanews.org/wp-content/uploads/2022/12/319887363_1658842844577266_4169187396566006991_n.jpeg
END:VEVENT
BEGIN:VEVENT
DTSTART;TZID=Europe/Rome:20221219T210000
DTEND;TZID=Europe/Rome:20221219T230000
DTSTAMP:20260425T193313
CREATED:20221216T180840Z
LAST-MODIFIED:20221216T180840Z
UID:10198-1671483600-1671490800@luccanews.org
SUMMARY:Christmas Concert
DESCRIPTION:Drink\, Speak Share Every Wednesday 9pm-11pm Biblioteca Popolare\, San Concordio\, Via Urbiciani Come on down and meet some lovely locals. A language exchange group from Italy that started 5 years … Continue reading Drink\, Speak\, Share Language Exchange
URL:https://luccanews.org/event/christmas-concert-10/
LOCATION:Sinfonia Music School\, via Nazaro Sauro 527\, Lucca\, LU\, 55100\, Italy
ATTACH;FMTTYPE=image/jpeg:https://luccanews.org/wp-content/uploads/2022/12/320399868_1503245993504151_7145793911057857871_n.jpeg
END:VEVENT
BEGIN:VEVENT
DTSTART;TZID=Europe/Rome:20221220T180000
DTEND;TZID=Europe/Rome:20221220T200000
DTSTAMP:20260425T193313
CREATED:20221103T181600Z
LAST-MODIFIED:20221104T153145Z
UID:9352-1671559200-1671566400@luccanews.org
SUMMARY:Photography Class for Beginner and Intermediate Level (6 of 10 lessons)
DESCRIPTION:Drink\, Speak Share Every Wednesday 9pm-11pm Biblioteca Popolare\, San Concordio\, Via Urbiciani Come on down and meet some lovely locals. A language exchange group from Italy that started 5 years … Continue reading Drink\, Speak\, Share Language Exchange
URL:https://luccanews.org/event/photography-class-for-beginners-10-lessons-5/
LOCATION:Community Room at Coop Supermarket Sant’Anna\, viale Puccini 1602\, Lucca\, LU\, 55100\, Italy
ATTACH;FMTTYPE=image/jpeg:https://luccanews.org/wp-content/uploads/2022/11/corso-di-fotografia-lucca.jpg
END:VEVENT
BEGIN:VEVENT
DTSTART;TZID=Europe/Rome:20221221T190000
DTEND;TZID=Europe/Rome:20221221T223000
DTSTAMP:20260425T193313
CREATED:20221215T083726Z
LAST-MODIFIED:20221215T083726Z
UID:10050-1671649200-1671661800@luccanews.org
SUMMARY:Christmas Concert
DESCRIPTION:Drink\, Speak Share Every Wednesday 9pm-11pm Biblioteca Popolare\, San Concordio\, Via Urbiciani Come on down and meet some lovely locals. A language exchange group from Italy that started 5 years … Continue reading Drink\, Speak\, Share Language Exchange
URL:https://luccanews.org/event/christmas-concert-6/
LOCATION:Real Collegio\, piazza del Collegio 13\, Lucca\, LU\, 55100\, Italy
ATTACH;FMTTYPE=image/jpeg:https://luccanews.org/wp-content/uploads/2022/12/WhatsApp-Image-2022-09-26-at-11.47.31-4.jpeg
END:VEVENT
BEGIN:VEVENT
DTSTART;TZID=Europe/Rome:20221221T203000
DTEND;TZID=Europe/Rome:20221221T223000
DTSTAMP:20260425T193313
CREATED:20221216T181012Z
LAST-MODIFIED:20221216T181012Z
UID:10200-1671654600-1671661800@luccanews.org
SUMMARY:Christmas Concert
DESCRIPTION:Drink\, Speak Share Every Wednesday 9pm-11pm Biblioteca Popolare\, San Concordio\, Via Urbiciani Come on down and meet some lovely locals. A language exchange group from Italy that started 5 years … Continue reading Drink\, Speak\, Share Language Exchange
URL:https://luccanews.org/event/christmas-concert-11/
LOCATION:Sinfonia Music School\, via Nazaro Sauro 527\, Lucca\, LU\, 55100\, Italy
ATTACH;FMTTYPE=image/jpeg:https://luccanews.org/wp-content/uploads/2022/12/320399868_1503245993504151_7145793911057857871_n.jpeg
END:VEVENT
BEGIN:VEVENT
DTSTART;TZID=Europe/Rome:20221221T210000
DTEND;TZID=Europe/Rome:20221221T233000
DTSTAMP:20260425T193313
CREATED:20221215T091608Z
LAST-MODIFIED:20221215T091608Z
UID:10073-1671656400-1671665400@luccanews.org
SUMMARY:Drink\, Speak\, Share - Language Exchange
DESCRIPTION:Drink\, Speak Share Every Wednesday 9pm-11pm Biblioteca Popolare\, San Concordio\, Via Urbiciani Come on down and meet some lovely locals. A language exchange group from Italy that started 5 years … Continue reading Drink\, Speak\, Share Language Exchange
URL:https://luccanews.org/event/drink-speak-share-language-exchange-7/
LOCATION:Luccalibri Libreria Caffe
ATTACH;FMTTYPE=image/jpeg:https://luccanews.org/wp-content/uploads/2022/09/drink-speak-share.jpg
END:VEVENT
BEGIN:VEVENT
DTSTART;TZID=Europe/Rome:20230118T210000
DTEND;TZID=Europe/Rome:20230118T233000
DTSTAMP:20260425T193313
CREATED:20230110T132734Z
LAST-MODIFIED:20230110T132734Z
UID:10713-1674075600-1674084600@luccanews.org
SUMMARY:Drink\, Speak\, Share - Language Exchange
DESCRIPTION:Drink\, Speak Share Every Wednesday 9pm-11pm Biblioteca Popolare\, San Concordio\, Via Urbiciani Come on down and meet some lovely locals. A language exchange group from Italy that started 5 years … Continue reading Drink\, Speak\, Share Language Exchange
URL:https://luccanews.org/event/drink-speak-share-language-exchange-10/
LOCATION:Luccalibri Libreria Caffe
ATTACH;FMTTYPE=image/jpeg:https://luccanews.org/wp-content/uploads/2022/09/drink-speak-share.jpg
END:VEVENT
BEGIN:VEVENT
DTSTART;VALUE=DATE:20221222
DTEND;VALUE=DATE:20221225
DTSTAMP:20260425T193313
CREATED:20221215T135913Z
LAST-MODIFIED:20230222T165956Z
UID:10141-1671667200-1671926399@luccanews.org
SUMMARY:Artisan Market
DESCRIPTION:Drink\, Speak Share Every Wednesday 9pm-11pm Biblioteca Popolare\, San Concordio\, Via Urbiciani Come on down and meet some lovely locals. A language exchange group from Italy that started 5 years … Continue reading Drink\, Speak\, Share Language Exchange
URL:https://luccanews.org/event/artisan-market-9/
LOCATION:Piazza Napoleone\, Lucca
CATEGORIES:Markets
ATTACH;FMTTYPE=image/jpeg:https://luccanews.org/wp-content/uploads/2022/12/320149657_1314107026032242_6012652512688618345_n.jpeg
END:VEVENT
BEGIN:VEVENT
DTSTART;TZID=Europe/Rome:20221222T180000
DTEND;TZID=Europe/Rome:20221222T190000
DTSTAMP:20260425T193313
CREATED:20221215T111627Z
LAST-MODIFIED:20221215T111627Z
UID:10109-1671732000-1671735600@luccanews.org
SUMMARY:Jazz Concert
DESCRIPTION:Drink\, Speak Share Every Wednesday 9pm-11pm Biblioteca Popolare\, San Concordio\, Via Urbiciani Come on down and meet some lovely locals. A language exchange group from Italy that started 5 years … Continue reading Drink\, Speak\, Share Language Exchange
URL:https://luccanews.org/event/jazz-concert-3/
LOCATION:piazza San Romao\, piazza San Romano\, Lucca\, LU\, 55100\, Italy
ATTACH;FMTTYPE=image/jpeg:https://luccanews.org/wp-content/uploads/2022/12/319048557_636092454975092_1994067968100664828_n.jpeg
END:VEVENT
BEGIN:VEVENT
DTSTART;TZID=Europe/Rome:20221223T180000
DTEND;TZID=Europe/Rome:20221223T190000
DTSTAMP:20260425T193314
CREATED:20221215T111724Z
LAST-MODIFIED:20221215T111951Z
UID:10111-1671818400-1671822000@luccanews.org
SUMMARY:Jazz Concert
DESCRIPTION:Drink\, Speak Share Every Wednesday 9pm-11pm Biblioteca Popolare\, San Concordio\, Via Urbiciani Come on down and meet some lovely locals. A language exchange group from Italy that started 5 years … Continue reading Drink\, Speak\, Share Language Exchange
URL:https://luccanews.org/event/jazz-concert-duplicate/
LOCATION:piazza San Romao\, piazza San Romano\, Lucca\, LU\, 55100\, Italy
ATTACH;FMTTYPE=image/jpeg:https://luccanews.org/wp-content/uploads/2022/12/319048557_636092454975092_1994067968100664828_n.jpeg
END:VEVENT
END:VCALENDAR