BEGIN:VCALENDAR
VERSION:2.0
PRODID:-//LuccaNews.Org - ECPv6.15.20//NONSGML v1.0//EN
CALSCALE:GREGORIAN
METHOD:PUBLISH
X-WR-CALNAME:LuccaNews.Org
X-ORIGINAL-URL:https://luccanews.org
X-WR-CALDESC:Events for LuccaNews.Org
REFRESH-INTERVAL;VALUE=DURATION:PT1H
X-Robots-Tag:noindex
X-PUBLISHED-TTL:PT1H
BEGIN:VTIMEZONE
TZID:Europe/Rome
BEGIN:DAYLIGHT
TZOFFSETFROM:+0100
TZOFFSETTO:+0200
TZNAME:CEST
DTSTART:20210328T010000
END:DAYLIGHT
BEGIN:STANDARD
TZOFFSETFROM:+0200
TZOFFSETTO:+0100
TZNAME:CET
DTSTART:20211031T010000
END:STANDARD
BEGIN:DAYLIGHT
TZOFFSETFROM:+0100
TZOFFSETTO:+0200
TZNAME:CEST
DTSTART:20220327T010000
END:DAYLIGHT
BEGIN:STANDARD
TZOFFSETFROM:+0200
TZOFFSETTO:+0100
TZNAME:CET
DTSTART:20221030T010000
END:STANDARD
BEGIN:DAYLIGHT
TZOFFSETFROM:+0100
TZOFFSETTO:+0200
TZNAME:CEST
DTSTART:20230326T010000
END:DAYLIGHT
BEGIN:STANDARD
TZOFFSETFROM:+0200
TZOFFSETTO:+0100
TZNAME:CET
DTSTART:20231029T010000
END:STANDARD
BEGIN:DAYLIGHT
TZOFFSETFROM:+0100
TZOFFSETTO:+0200
TZNAME:CEST
DTSTART:20240331T010000
END:DAYLIGHT
BEGIN:STANDARD
TZOFFSETFROM:+0200
TZOFFSETTO:+0100
TZNAME:CET
DTSTART:20241027T010000
END:STANDARD
END:VTIMEZONE
BEGIN:VEVENT
DTSTART;TZID=Europe/Rome:20220902T090000
DTEND;TZID=Europe/Rome:20220904T190000
DTSTAMP:20260419T142838
CREATED:20220815T213433Z
LAST-MODIFIED:20220815T213433Z
UID:7358-1662109200-1662318000@luccanews.org
SUMMARY:Immagina Festival
DESCRIPTION:Drink\, Speak Share Every Wednesday 9pm-11pm Biblioteca Popolare\, San Concordio\, Via Urbiciani Come on down and meet some lovely locals. A language exchange group from Italy that started 5 years … Continue reading Drink\, Speak\, Share Language Exchange
URL:https://luccanews.org/event/immagina-festival/
LOCATION:Various locations thoughout Lucca\, Lucca\, LU\, 55100\, Italy
ATTACH;FMTTYPE=image/jpeg:https://luccanews.org/wp-content/uploads/2022/08/Immagina.jpg
END:VEVENT
BEGIN:VEVENT
DTSTART;TZID=Europe/Rome:20220902T100000
DTEND;TZID=Europe/Rome:20220904T170000
DTSTAMP:20260419T142838
CREATED:20220524T090833Z
LAST-MODIFIED:20220901T192718Z
UID:5125-1662112800-1662310800@luccanews.org
SUMMARY:Pablo Atchugarry exhibition "The Awakening of Nature" FINAL WEEKEND
DESCRIPTION:Drink\, Speak Share Every Wednesday 9pm-11pm Biblioteca Popolare\, San Concordio\, Via Urbiciani Come on down and meet some lovely locals. A language exchange group from Italy that started 5 years … Continue reading Drink\, Speak\, Share Language Exchange
URL:https://luccanews.org/event/pablo-atchugarry-exhibition-the-awakening-of-nature/
LOCATION:all over Lucca\, Lucca\, LU\, Italy
ATTACH;FMTTYPE=image/jpeg:https://luccanews.org/wp-content/uploads/2022/05/riduciImmagine-1-1.jpeg
END:VEVENT
BEGIN:VEVENT
DTSTART;TZID=Europe/Rome:20220902T100000
DTEND;TZID=Europe/Rome:20220904T170000
DTSTAMP:20260419T142838
CREATED:20220626T151249Z
LAST-MODIFIED:20220714T122626Z
UID:6027-1662112800-1662310800@luccanews.org
SUMMARY:Murabilia
DESCRIPTION:Drink\, Speak Share Every Wednesday 9pm-11pm Biblioteca Popolare\, San Concordio\, Via Urbiciani Come on down and meet some lovely locals. A language exchange group from Italy that started 5 years … Continue reading Drink\, Speak\, Share Language Exchange
URL:https://luccanews.org/event/murabilia/
LOCATION:Botanical Garden\, Via del Giardino Botanico 14\, Lucca\, LU\, 55100\, Italy
ATTACH;FMTTYPE=image/jpeg:https://luccanews.org/wp-content/uploads/2022/06/Murabilia-2021.jpg
END:VEVENT
BEGIN:VEVENT
DTSTART;TZID=Europe/Rome:20220902T153000
DTEND;TZID=Europe/Rome:20220903T233000
DTSTAMP:20260419T142838
CREATED:20220505T084536Z
LAST-MODIFIED:20220901T194014Z
UID:4672-1662132600-1662247800@luccanews.org
SUMMARY:Jova Beach Party Viareggio
DESCRIPTION:Drink\, Speak Share Every Wednesday 9pm-11pm Biblioteca Popolare\, San Concordio\, Via Urbiciani Come on down and meet some lovely locals. A language exchange group from Italy that started 5 years … Continue reading Drink\, Speak\, Share Language Exchange
URL:https://luccanews.org/event/jova-beach-party-viareggio/
LOCATION:Beach Muraglione\, Molo Marinai d'Italia\, Viareggio\, LU\, 55049\, Italy
ATTACH;FMTTYPE=image/jpeg:https://luccanews.org/wp-content/uploads/2022/05/273643297_5136657886358055_3469300044215819186_n.jpeg
END:VEVENT
BEGIN:VEVENT
DTSTART;TZID=Europe/Rome:20220902T180000
DTEND;TZID=Europe/Rome:20220907T233000
DTSTAMP:20260419T142838
CREATED:20220627T180502Z
LAST-MODIFIED:20220901T192945Z
UID:6034-1662141600-1662593400@luccanews.org
SUMMARY:Summer at Real Collegio
DESCRIPTION:Drink\, Speak Share Every Wednesday 9pm-11pm Biblioteca Popolare\, San Concordio\, Via Urbiciani Come on down and meet some lovely locals. A language exchange group from Italy that started 5 years … Continue reading Drink\, Speak\, Share Language Exchange
URL:https://luccanews.org/event/summer-at-real-collegio/
LOCATION:Real Collegio\, piazza del Collegio 13\, Lucca\, LU\, 55100\, Italy
ATTACH;FMTTYPE=image/jpeg:https://luccanews.org/wp-content/uploads/2022/06/290827695_1233506397491159_1595669631669860706_n.jpeg
END:VEVENT
BEGIN:VEVENT
DTSTART;TZID=Europe/Rome:20220903T083000
DTEND;TZID=Europe/Rome:20220904T123000
DTSTAMP:20260419T142838
CREATED:20220825T201717Z
LAST-MODIFIED:20220825T202621Z
UID:7514-1662193800-1662294600@luccanews.org
SUMMARY:Paint Like Botticelli Free Workshop
DESCRIPTION:Drink\, Speak Share Every Wednesday 9pm-11pm Biblioteca Popolare\, San Concordio\, Via Urbiciani Come on down and meet some lovely locals. A language exchange group from Italy that started 5 years … Continue reading Drink\, Speak\, Share Language Exchange
URL:https://luccanews.org/event/paint-like-botticelli-free-workshop/
LOCATION:Via del Palazzo Bruciatio 14\, Firenze
ATTACH;FMTTYPE=image/jpeg:https://luccanews.org/wp-content/uploads/2022/08/Botticelli.jpg
END:VEVENT
BEGIN:VEVENT
DTSTART;TZID=Europe/Rome:20220904T073000
DTEND;TZID=Europe/Rome:20220904T120000
DTSTAMP:20260419T142838
CREATED:20220901T210658Z
LAST-MODIFIED:20220901T210658Z
UID:7616-1662276600-1662292800@luccanews.org
SUMMARY:Millepiedi Run for Charity
DESCRIPTION:Drink\, Speak Share Every Wednesday 9pm-11pm Biblioteca Popolare\, San Concordio\, Via Urbiciani Come on down and meet some lovely locals. A language exchange group from Italy that started 5 years … Continue reading Drink\, Speak\, Share Language Exchange
URL:https://luccanews.org/event/millepiedi-run-for-charity/
LOCATION:Ristorante Caffe del Mura
ATTACH;FMTTYPE=image/jpeg:https://luccanews.org/wp-content/uploads/2022/09/milepiedi-e1662066344571.jpg
END:VEVENT
BEGIN:VEVENT
DTSTART;TZID=Europe/Rome:20220904T173000
DTEND;TZID=Europe/Rome:20220904T190000
DTSTAMP:20260419T142838
CREATED:20220721T174213Z
LAST-MODIFIED:20220721T174450Z
UID:6820-1662312600-1662318000@luccanews.org
SUMMARY:Summer Music Review
DESCRIPTION:Drink\, Speak Share Every Wednesday 9pm-11pm Biblioteca Popolare\, San Concordio\, Via Urbiciani Come on down and meet some lovely locals. A language exchange group from Italy that started 5 years … Continue reading Drink\, Speak\, Share Language Exchange
URL:https://luccanews.org/event/summer-music-review-2-2/
LOCATION:Real Collegio\, piazza del Collegio 13\, Lucca\, LU\, 55100\, Italy
ATTACH;FMTTYPE=image/jpeg:https://luccanews.org/wp-content/uploads/2022/07/summer-music-review.jpg
END:VEVENT
BEGIN:VEVENT
DTSTART;TZID=Europe/Rome:20220905T183000
DTEND;TZID=Europe/Rome:20220905T193000
DTSTAMP:20260419T142838
CREATED:20220526T193245Z
LAST-MODIFIED:20220713T153620Z
UID:6433-1662402600-1662406200@luccanews.org
SUMMARY:Cathedral Music Organ Concert
DESCRIPTION:Drink\, Speak Share Every Wednesday 9pm-11pm Biblioteca Popolare\, San Concordio\, Via Urbiciani Come on down and meet some lovely locals. A language exchange group from Italy that started 5 years … Continue reading Drink\, Speak\, Share Language Exchange
URL:https://luccanews.org/event/cathedral-music-organ-concert-2-2-2-2-2-2-3-2/
LOCATION:Cathedral San Martino\, piazza San Martino\, Lucca\, LU\, 55100\, Italy
ATTACH;FMTTYPE=image/jpeg:https://luccanews.org/wp-content/uploads/2022/05/Cathedral-Music.jpg
END:VEVENT
BEGIN:VEVENT
DTSTART;TZID=Europe/Rome:20220905T210000
DTEND;TZID=Europe/Rome:20220905T230000
DTSTAMP:20260419T142838
CREATED:20220904T202130Z
LAST-MODIFIED:20220904T202130Z
UID:7685-1662411600-1662418800@luccanews.org
SUMMARY:Symphony School of Music | Chamber Music Festival
DESCRIPTION:Drink\, Speak Share Every Wednesday 9pm-11pm Biblioteca Popolare\, San Concordio\, Via Urbiciani Come on down and meet some lovely locals. A language exchange group from Italy that started 5 years … Continue reading Drink\, Speak\, Share Language Exchange
URL:https://luccanews.org/event/symphony-school-of-music-chamber-music-festival/
LOCATION:Real Collegio\, piazza del Collegio 13\, Lucca\, LU\, 55100\, Italy
ATTACH;FMTTYPE=image/jpeg:https://luccanews.org/wp-content/uploads/2022/09/Festival-di-Musica-da-Camera.jpg
END:VEVENT
BEGIN:VEVENT
DTSTART;TZID=Europe/Rome:20220908T210000
DTEND;TZID=Europe/Rome:20220908T230000
DTSTAMP:20260419T142838
CREATED:20220815T221310Z
LAST-MODIFIED:20220815T221310Z
UID:7369-1662670800-1662678000@luccanews.org
SUMMARY:Open Gold Concert
DESCRIPTION:Drink\, Speak Share Every Wednesday 9pm-11pm Biblioteca Popolare\, San Concordio\, Via Urbiciani Come on down and meet some lovely locals. A language exchange group from Italy that started 5 years … Continue reading Drink\, Speak\, Share Language Exchange
URL:https://luccanews.org/event/open-gold-concert/
LOCATION:Auditorium del Suffragio\, piazza del Suffragio 6\, Lucca\, LU\, 55100\, Italy
ATTACH;FMTTYPE=image/jpeg:https://luccanews.org/wp-content/uploads/2022/08/Open-Gold-1.jpg
END:VEVENT
BEGIN:VEVENT
DTSTART;TZID=Europe/Rome:20220909T100000
DTEND;TZID=Europe/Rome:20220911T233000
DTSTAMP:20260419T142838
CREATED:20220703T113408Z
LAST-MODIFIED:20220703T113408Z
UID:6221-1662717600-1662939000@luccanews.org
SUMMARY:Live Music Festival in Marina di Pietrasanta
DESCRIPTION:Drink\, Speak Share Every Wednesday 9pm-11pm Biblioteca Popolare\, San Concordio\, Via Urbiciani Come on down and meet some lovely locals. A language exchange group from Italy that started 5 years … Continue reading Drink\, Speak\, Share Language Exchange
URL:https://luccanews.org/event/live-music-festival-in-marina-di-pietrasanta/
LOCATION:Parco La Versiliana\, Parco La Versiliana\, Marina di Pietrasanta\, LU\, 55045\, Italy
ATTACH;FMTTYPE=image/jpeg:https://luccanews.org/wp-content/uploads/2022/07/289497144_138387908859017_1229010131508355345_n.jpeg
END:VEVENT
BEGIN:VEVENT
DTSTART;TZID=Europe/Rome:20220909T163000
DTEND;TZID=Europe/Rome:20220911T233000
DTSTAMP:20260419T142838
CREATED:20220726T145615Z
LAST-MODIFIED:20220726T145615Z
UID:6982-1662741000-1662939000@luccanews.org
SUMMARY:Limbo Festival - Music\, Nature\, Food & Friendship
DESCRIPTION:Drink\, Speak Share Every Wednesday 9pm-11pm Biblioteca Popolare\, San Concordio\, Via Urbiciani Come on down and meet some lovely locals. A language exchange group from Italy that started 5 years … Continue reading Drink\, Speak\, Share Language Exchange
URL:https://luccanews.org/event/limbo-festival-music-nature-food-friendship/
LOCATION:Il Ciocco Estate\, Barga
ATTACH;FMTTYPE=image/jpeg:https://luccanews.org/wp-content/uploads/2022/07/limbo.jpg
END:VEVENT
BEGIN:VEVENT
DTSTART;TZID=Europe/Rome:20220909T213000
DTEND;TZID=Europe/Rome:20220911T213000
DTSTAMP:20260419T142838
CREATED:20220619T015005Z
LAST-MODIFIED:20220909T055116Z
UID:5769-1662759000-1662931800@luccanews.org
SUMMARY:Open Air Summer Movie Festival - Final Weekend
DESCRIPTION:Drink\, Speak Share Every Wednesday 9pm-11pm Biblioteca Popolare\, San Concordio\, Via Urbiciani Come on down and meet some lovely locals. A language exchange group from Italy that started 5 years … Continue reading Drink\, Speak\, Share Language Exchange
URL:https://luccanews.org/event/summer-movie-festival/
LOCATION:Villa Bottini\, via Elisa 9\, Lucca\, LU\, 55100\, Italy
ATTACH;FMTTYPE=image/jpeg:https://luccanews.org/wp-content/uploads/2022/06/285734332_5354832197941873_6105900736786894782_n-1.jpeg
END:VEVENT
BEGIN:VEVENT
DTSTART;TZID=Europe/Rome:20220910T080000
DTEND;TZID=Europe/Rome:20220911T170000
DTSTAMP:20260419T142838
CREATED:20220825T162814Z
LAST-MODIFIED:20220909T054910Z
UID:7490-1662796800-1662915600@luccanews.org
SUMMARY:Montecarlo Wine Festival Final Weekend
DESCRIPTION:Drink\, Speak Share Every Wednesday 9pm-11pm Biblioteca Popolare\, San Concordio\, Via Urbiciani Come on down and meet some lovely locals. A language exchange group from Italy that started 5 years … Continue reading Drink\, Speak\, Share Language Exchange
URL:https://luccanews.org/event/montecarlo-wine-festival/
LOCATION:Montecarlo\, Montecarlo\, Lucca\, Italy
ATTACH;FMTTYPE=image/jpeg:https://luccanews.org/wp-content/uploads/2022/08/festa-del-vino.jpg
END:VEVENT
BEGIN:VEVENT
DTSTART;TZID=Europe/Rome:20220910T100000
DTEND;TZID=Europe/Rome:20220925T220000
DTSTAMP:20260419T142838
CREATED:20220524T091700Z
LAST-MODIFIED:20220909T053638Z
UID:5133-1662804000-1664143200@luccanews.org
SUMMARY:Lucca Biennale - Paper Art
DESCRIPTION:Drink\, Speak Share Every Wednesday 9pm-11pm Biblioteca Popolare\, San Concordio\, Via Urbiciani Come on down and meet some lovely locals. A language exchange group from Italy that started 5 years … Continue reading Drink\, Speak\, Share Language Exchange
URL:https://luccanews.org/event/lucca-biennale-paper-art/
LOCATION:all over Lucca\, Lucca\, LU\, Italy
ATTACH;FMTTYPE=image/jpeg:https://luccanews.org/wp-content/uploads/2022/05/277562045_5058192427575691_6966050833233271992_n.jpeg
END:VEVENT
BEGIN:VEVENT
DTSTART;TZID=Europe/Rome:20220910T120000
DTEND;TZID=Europe/Rome:20220911T233000
DTSTAMP:20260419T142839
CREATED:20220827T143412Z
LAST-MODIFIED:20220827T143412Z
UID:7540-1662811200-1662939000@luccanews.org
SUMMARY:Decibel Open Air Concert
DESCRIPTION:Drink\, Speak Share Every Wednesday 9pm-11pm Biblioteca Popolare\, San Concordio\, Via Urbiciani Come on down and meet some lovely locals. A language exchange group from Italy that started 5 years … Continue reading Drink\, Speak\, Share Language Exchange
URL:https://luccanews.org/event/decibel-open-air-concert/
LOCATION:Parco della Cascine\, Firenze
ATTACH;FMTTYPE=image/jpeg:https://luccanews.org/wp-content/uploads/2022/08/Decibel.jpg
END:VEVENT
BEGIN:VEVENT
DTSTART;TZID=Europe/Rome:20220910T163000
DTEND;TZID=Europe/Rome:20220910T213000
DTSTAMP:20260419T142839
CREATED:20220413T091047Z
LAST-MODIFIED:20220626T135641Z
UID:4036-1662827400-1662845400@luccanews.org
SUMMARY:Fossi dell'Arte - Open Air Art Show
DESCRIPTION:Drink\, Speak Share Every Wednesday 9pm-11pm Biblioteca Popolare\, San Concordio\, Via Urbiciani Come on down and meet some lovely locals. A language exchange group from Italy that started 5 years … Continue reading Drink\, Speak\, Share Language Exchange
URL:https://luccanews.org/event/fossi-dellarte-open-air-art-show-2-2-2/
LOCATION:via del Fosso\, via del Fosso\, Lucca\, LU\, 55100\, Italy
ATTACH;FMTTYPE=image/jpeg:https://luccanews.org/wp-content/uploads/2022/04/fossi-dell-arte-9-luglio-351166.660x368.jpg
END:VEVENT
BEGIN:VEVENT
DTSTART;TZID=Europe/Rome:20220910T210000
DTEND;TZID=Europe/Rome:20220910T230000
DTSTAMP:20260419T142839
CREATED:20220814T055519Z
LAST-MODIFIED:20220814T055519Z
UID:7282-1662843600-1662850800@luccanews.org
SUMMARY:Opera Concert for The Holy Cross
DESCRIPTION:Drink\, Speak Share Every Wednesday 9pm-11pm Biblioteca Popolare\, San Concordio\, Via Urbiciani Come on down and meet some lovely locals. A language exchange group from Italy that started 5 years … Continue reading Drink\, Speak\, Share Language Exchange
URL:https://luccanews.org/event/opera-concert-for-the-holy-cross/
LOCATION:Teatro del Giglio\, piazza del Giglio\, Lucca\, LU\, 55100\, Italy
ATTACH;FMTTYPE=image/jpeg:https://luccanews.org/wp-content/uploads/2022/08/concerto-lirico-per-la-santa-croce-2022-354705.jpg
END:VEVENT
BEGIN:VEVENT
DTSTART;TZID=Europe/Rome:20220910T210000
DTEND;TZID=Europe/Rome:20220910T230000
DTSTAMP:20260419T142839
CREATED:20220815T221310Z
LAST-MODIFIED:20220815T222321Z
UID:7378-1662843600-1662850800@luccanews.org
SUMMARY:Open Gold Concert-Josu De Solaun
DESCRIPTION:Drink\, Speak Share Every Wednesday 9pm-11pm Biblioteca Popolare\, San Concordio\, Via Urbiciani Come on down and meet some lovely locals. A language exchange group from Italy that started 5 years … Continue reading Drink\, Speak\, Share Language Exchange
URL:https://luccanews.org/event/open-gold-concert-2/
LOCATION:Auditorium del Suffragio\, piazza del Suffragio 6\, Lucca\, LU\, 55100\, Italy
ATTACH;FMTTYPE=image/jpeg:https://luccanews.org/wp-content/uploads/2022/08/Open-Gold-2.jpg
END:VEVENT
BEGIN:VEVENT
DTSTART;TZID=Europe/Rome:20220911T100000
DTEND;TZID=Europe/Rome:20220914T230000
DTSTAMP:20260419T142839
CREATED:20220904T185321Z
LAST-MODIFIED:20220904T185321Z
UID:7650-1662890400-1663196400@luccanews.org
SUMMARY:The Festival of Santa Croce
DESCRIPTION:Drink\, Speak Share Every Wednesday 9pm-11pm Biblioteca Popolare\, San Concordio\, Via Urbiciani Come on down and meet some lovely locals. A language exchange group from Italy that started 5 years … Continue reading Drink\, Speak\, Share Language Exchange
URL:https://luccanews.org/event/the-festival-of-santa-croce/
LOCATION:all over Lucca\, Lucca\, LU\, Italy
ATTACH;FMTTYPE=image/jpeg:https://luccanews.org/wp-content/uploads/2022/09/santa-croce.jpg
END:VEVENT
BEGIN:VEVENT
DTSTART;TZID=Europe/Rome:20220912T100000
DTEND;TZID=Europe/Rome:20220914T120000
DTSTAMP:20260419T142839
CREATED:20220911T080445Z
LAST-MODIFIED:20220911T080445Z
UID:7821-1662976800-1663156800@luccanews.org
SUMMARY:In the Landscape of Art
DESCRIPTION:Drink\, Speak Share Every Wednesday 9pm-11pm Biblioteca Popolare\, San Concordio\, Via Urbiciani Come on down and meet some lovely locals. A language exchange group from Italy that started 5 years … Continue reading Drink\, Speak\, Share Language Exchange
URL:https://luccanews.org/event/in-the-landscape-of-art/
LOCATION:Real Collegio\, piazza del Collegio 13\, Lucca\, LU\, 55100\, Italy
ATTACH;FMTTYPE=image/jpeg:https://luccanews.org/wp-content/uploads/2022/09/dellarte.jpg
END:VEVENT
BEGIN:VEVENT
DTSTART;TZID=Europe/Rome:20220912T100000
DTEND;TZID=Europe/Rome:20221003T170000
DTSTAMP:20260419T142839
CREATED:20220327T113334Z
LAST-MODIFIED:20221004T144437Z
UID:2872-1662976800-1664816400@luccanews.org
SUMMARY:Michelangelo's Three Pietàs - Florence - Extended until October 3
DESCRIPTION:Drink\, Speak Share Every Wednesday 9pm-11pm Biblioteca Popolare\, San Concordio\, Via Urbiciani Come on down and meet some lovely locals. A language exchange group from Italy that started 5 years … Continue reading Drink\, Speak\, Share Language Exchange
URL:https://luccanews.org/event/michelangelos-three-pietas-florence/
LOCATION:Opera di Santa Maria del Fiore\, Via della Canonica\, 1\, Florence\, FI\, 50122\, Italy
ATTACH;FMTTYPE=image/jpeg:https://luccanews.org/wp-content/uploads/2022/03/Le-tre-pietà-di-Michelangelo_ph_Andrea_Paoletti_10-1024x684-1.jpeg
END:VEVENT
BEGIN:VEVENT
DTSTART;TZID=Europe/Rome:20220912T150000
DTEND;TZID=Europe/Rome:20220925T190000
DTSTAMP:20260419T142839
CREATED:20220911T231801Z
LAST-MODIFIED:20220911T231849Z
UID:7833-1662994800-1664132400@luccanews.org
SUMMARY:Lucca For Women. - Photography Exhibition
DESCRIPTION:Drink\, Speak Share Every Wednesday 9pm-11pm Biblioteca Popolare\, San Concordio\, Via Urbiciani Come on down and meet some lovely locals. A language exchange group from Italy that started 5 years … Continue reading Drink\, Speak\, Share Language Exchange
URL:https://luccanews.org/event/lucca-for-women-photography-exhibition/
ATTACH;FMTTYPE=image/jpeg:https://luccanews.org/wp-content/uploads/2022/09/femminile.jpg
END:VEVENT
BEGIN:VEVENT
DTSTART;TZID=Europe/Rome:20220912T173000
DTEND;TZID=Europe/Rome:20220914T230000
DTSTAMP:20260419T142839
CREATED:20220911T192932Z
LAST-MODIFIED:20220911T230600Z
UID:7818-1663003800-1663196400@luccanews.org
SUMMARY:The Festival of Santa Croce
DESCRIPTION:Drink\, Speak Share Every Wednesday 9pm-11pm Biblioteca Popolare\, San Concordio\, Via Urbiciani Come on down and meet some lovely locals. A language exchange group from Italy that started 5 years … Continue reading Drink\, Speak\, Share Language Exchange
URL:https://luccanews.org/event/the-festival-of-santa-croce-2/
LOCATION:all over Lucca\, Lucca\, LU\, Italy
END:VEVENT
BEGIN:VEVENT
DTSTART;TZID=Europe/Rome:20220914T080000
DTEND;TZID=Europe/Rome:20220925T170000
DTSTAMP:20260419T142839
CREATED:20220911T232535Z
LAST-MODIFIED:20220911T232535Z
UID:7839-1663142400-1664125200@luccanews.org
SUMMARY:Walking in Lucca\, between alleys and courtyards
DESCRIPTION:Drink\, Speak Share Every Wednesday 9pm-11pm Biblioteca Popolare\, San Concordio\, Via Urbiciani Come on down and meet some lovely locals. A language exchange group from Italy that started 5 years … Continue reading Drink\, Speak\, Share Language Exchange
URL:https://luccanews.org/event/walking-in-lucca-between-alleys-and-courtyards/
LOCATION:Casermetta San Paolino
ATTACH;FMTTYPE=image/jpeg:https://luccanews.org/wp-content/uploads/2022/09/vicoli.jpg
END:VEVENT
BEGIN:VEVENT
DTSTART;TZID=Europe/Rome:20221209T080000
DTEND;TZID=Europe/Rome:20230326T170000
DTSTAMP:20260419T142839
CREATED:20220915T122213Z
LAST-MODIFIED:20220915T123524Z
UID:7879-1670572800-1679850000@luccanews.org
SUMMARY:The Prose Season
DESCRIPTION:Drink\, Speak Share Every Wednesday 9pm-11pm Biblioteca Popolare\, San Concordio\, Via Urbiciani Come on down and meet some lovely locals. A language exchange group from Italy that started 5 years … Continue reading Drink\, Speak\, Share Language Exchange
URL:https://luccanews.org/event/the-prose-season/
LOCATION:Teatro del Giglio\, piazza del Giglio\, Lucca\, LU\, 55100\, Italy
ATTACH;FMTTYPE=image/jpeg:https://luccanews.org/wp-content/uploads/2022/09/prose.jpg
END:VEVENT
BEGIN:VEVENT
DTSTART;TZID=Europe/Rome:20220917T080000
DTEND;TZID=Europe/Rome:20220917T170000
DTSTAMP:20260419T142839
CREATED:20220717T112952Z
LAST-MODIFIED:20220717T112952Z
UID:6655-1663401600-1663434000@luccanews.org
SUMMARY:TEDx Fiesole - Florence
DESCRIPTION:Drink\, Speak Share Every Wednesday 9pm-11pm Biblioteca Popolare\, San Concordio\, Via Urbiciani Come on down and meet some lovely locals. A language exchange group from Italy that started 5 years … Continue reading Drink\, Speak\, Share Language Exchange
URL:https://luccanews.org/event/tedx-fiesole-florence/
LOCATION:Fiesole Roman Arena\, Via Portigiani\, 1\, 50014 Fiesole\, Florence\, Italy
ATTACH;FMTTYPE=image/jpeg:https://luccanews.org/wp-content/uploads/2022/07/tedx.jpeg
END:VEVENT
BEGIN:VEVENT
DTSTART;TZID=Europe/Rome:20220917T090000
DTEND;TZID=Europe/Rome:20220918T190000
DTSTAMP:20260419T142839
CREATED:20220308T161023Z
LAST-MODIFIED:20220626T150024Z
UID:6020-1663405200-1663527600@luccanews.org
SUMMARY:Antiques Market
DESCRIPTION:Drink\, Speak Share Every Wednesday 9pm-11pm Biblioteca Popolare\, San Concordio\, Via Urbiciani Come on down and meet some lovely locals. A language exchange group from Italy that started 5 years … Continue reading Drink\, Speak\, Share Language Exchange
URL:https://luccanews.org/event/antiques-market-3-2-2-3-2/
LOCATION:Piazza Napoleone\, Lucca
ATTACH;FMTTYPE=image/png:https://luccanews.org/wp-content/uploads/2022/04/278660381_10160193124951979_5227010219033935496_n.png
END:VEVENT
BEGIN:VEVENT
DTSTART;TZID=Europe/Rome:20220918T080000
DTEND;TZID=Europe/Rome:20220922T170000
DTSTAMP:20260419T142839
CREATED:20220915T121024Z
LAST-MODIFIED:20220915T121024Z
UID:7869-1663488000-1663866000@luccanews.org
SUMMARY:Cinema In Festa
DESCRIPTION:Drink\, Speak Share Every Wednesday 9pm-11pm Biblioteca Popolare\, San Concordio\, Via Urbiciani Come on down and meet some lovely locals. A language exchange group from Italy that started 5 years … Continue reading Drink\, Speak\, Share Language Exchange
URL:https://luccanews.org/event/cinema-in-festa/
LOCATION:Cinemas
ATTACH;FMTTYPE=image/jpeg:https://luccanews.org/wp-content/uploads/2022/09/cinemainfesta_card.jpg
END:VEVENT
END:VCALENDAR